BEGIN:VCALENDAR
VERSION:2.0
PRODID:-//PT TEPIS - ECPv6.15.20//NONSGML v1.0//EN
CALSCALE:GREGORIAN
METHOD:PUBLISH
X-ORIGINAL-URL:https://tepis.org.pl
X-WR-CALDESC:Wydarzenia dla PT TEPIS
REFRESH-INTERVAL;VALUE=DURATION:PT1H
X-Robots-Tag:noindex
X-PUBLISHED-TTL:PT1H
BEGIN:VTIMEZONE
TZID:Europe/Warsaw
BEGIN:DAYLIGHT
TZOFFSETFROM:+0100
TZOFFSETTO:+0200
TZNAME:CEST
DTSTART:20170326T010000
END:DAYLIGHT
BEGIN:STANDARD
TZOFFSETFROM:+0200
TZOFFSETTO:+0100
TZNAME:CET
DTSTART:20171029T010000
END:STANDARD
BEGIN:DAYLIGHT
TZOFFSETFROM:+0100
TZOFFSETTO:+0200
TZNAME:CEST
DTSTART:20180325T010000
END:DAYLIGHT
BEGIN:STANDARD
TZOFFSETFROM:+0200
TZOFFSETTO:+0100
TZNAME:CET
DTSTART:20181028T010000
END:STANDARD
BEGIN:DAYLIGHT
TZOFFSETFROM:+0100
TZOFFSETTO:+0200
TZNAME:CEST
DTSTART:20190331T010000
END:DAYLIGHT
BEGIN:STANDARD
TZOFFSETFROM:+0200
TZOFFSETTO:+0100
TZNAME:CET
DTSTART:20191027T010000
END:STANDARD
END:VTIMEZONE
BEGIN:VEVENT
DTSTART;TZID=Europe/Warsaw:20180908T093000
DTEND;TZID=Europe/Warsaw:20180908T170000
DTSTAMP:20260426T054909
CREATED:20180710T053840Z
LAST-MODIFIED:20230303T181331Z
UID:10081-1536399000-1536426000@tepis.org.pl
SUMMARY:Prawo karne i cywilne\, prawo spółek\, finanse i księgowość oraz tłumaczenie ustne konsekutywne
DESCRIPTION:Cykl szkoleń dla tłumaczy przysięgłych języka hiszpańskiego oraz kandydatów na tłumaczy przysięgłych prawo cywilne sekcja hiszpanska
URL:https://tepis.org.pl/event/prawo-karne-i-cywilne-prawo-spolek-finanse-i-ksiegowosc-oraz-tlumaczenie-ustne-konsekutywne/
LOCATION:Siedziba PT TEPiS\, ul. E. Plater 25/44\, Warszawa\, mazowieckie\, 00-688\, Polska
ORGANIZER;CN="Kolegium Doskonalenia Zawodowego PT TEPIS":MAILTO:tepis@tepis.org.pl
END:VEVENT
END:VCALENDAR