BEGIN:VCALENDAR
VERSION:2.0
PRODID:-//PT TEPIS - ECPv6.15.20//NONSGML v1.0//EN
CALSCALE:GREGORIAN
METHOD:PUBLISH
X-ORIGINAL-URL:https://tepis.org.pl
X-WR-CALDESC:Wydarzenia dla PT TEPIS
REFRESH-INTERVAL;VALUE=DURATION:PT1H
X-Robots-Tag:noindex
X-PUBLISHED-TTL:PT1H
BEGIN:VTIMEZONE
TZID:Europe/Warsaw
BEGIN:DAYLIGHT
TZOFFSETFROM:+0100
TZOFFSETTO:+0200
TZNAME:CEST
DTSTART:20190331T010000
END:DAYLIGHT
BEGIN:STANDARD
TZOFFSETFROM:+0200
TZOFFSETTO:+0100
TZNAME:CET
DTSTART:20191027T010000
END:STANDARD
BEGIN:DAYLIGHT
TZOFFSETFROM:+0100
TZOFFSETTO:+0200
TZNAME:CEST
DTSTART:20200329T010000
END:DAYLIGHT
BEGIN:STANDARD
TZOFFSETFROM:+0200
TZOFFSETTO:+0100
TZNAME:CET
DTSTART:20201025T010000
END:STANDARD
BEGIN:DAYLIGHT
TZOFFSETFROM:+0100
TZOFFSETTO:+0200
TZNAME:CEST
DTSTART:20210328T010000
END:DAYLIGHT
BEGIN:STANDARD
TZOFFSETFROM:+0200
TZOFFSETTO:+0100
TZNAME:CET
DTSTART:20211031T010000
END:STANDARD
END:VTIMEZONE
BEGIN:VEVENT
DTSTART;TZID=Europe/Warsaw:20200922T100000
DTEND;TZID=Europe/Warsaw:20200922T150000
DTSTAMP:20260424T205505
CREATED:20200824T094413Z
LAST-MODIFIED:20200914T120045Z
UID:14362-1600768800-1600786800@tepis.org.pl
SUMMARY:Podstawy ukraińskiego prawa-webinarium 2/4
DESCRIPTION:Podstawy ukraińskiego prawa karnego i cywilnego dla tłumaczy – 4 bloki\n \nzmiana terminu szkolenia: rozpoczyna się 17.09\, a nie jak  wcześniej planowano 15.09\n \n17.09.2020 (czwartek) BLOK 1 – PRAWO KARNE MATERIALNE\n \n22.09.2020 (wtorek) BLOK 2 – PRAWO KARNE PROCESOWE \n24.09.2020 (czwartek)  BLOK 3 – PRAWO CYWILNE MATERIALNE \n29.09.2020 (wtorek) BLOK 4 – PRAWO CYWILNE PROCESOWE \nPodstawy ukraińskiego prawa_09.2020
URL:https://tepis.org.pl/event/podstawy-ukrainskiego-prawa-webinarium-3-4/
ORGANIZER;CN="Kolegium Doskonalenia Zawodowego PT TEPIS":MAILTO:tepis@tepis.org.pl
END:VEVENT
END:VCALENDAR