BEGIN:VCALENDAR
VERSION:2.0
PRODID:-//PT TEPIS - ECPv6.15.20//NONSGML v1.0//EN
CALSCALE:GREGORIAN
METHOD:PUBLISH
X-ORIGINAL-URL:https://tepis.org.pl
X-WR-CALDESC:Wydarzenia dla PT TEPIS
REFRESH-INTERVAL;VALUE=DURATION:PT1H
X-Robots-Tag:noindex
X-PUBLISHED-TTL:PT1H
BEGIN:VTIMEZONE
TZID:Europe/Warsaw
BEGIN:DAYLIGHT
TZOFFSETFROM:+0100
TZOFFSETTO:+0200
TZNAME:CEST
DTSTART:20190331T010000
END:DAYLIGHT
BEGIN:STANDARD
TZOFFSETFROM:+0200
TZOFFSETTO:+0100
TZNAME:CET
DTSTART:20191027T010000
END:STANDARD
BEGIN:DAYLIGHT
TZOFFSETFROM:+0100
TZOFFSETTO:+0200
TZNAME:CEST
DTSTART:20200329T010000
END:DAYLIGHT
BEGIN:STANDARD
TZOFFSETFROM:+0200
TZOFFSETTO:+0100
TZNAME:CET
DTSTART:20201025T010000
END:STANDARD
BEGIN:DAYLIGHT
TZOFFSETFROM:+0100
TZOFFSETTO:+0200
TZNAME:CEST
DTSTART:20210328T010000
END:DAYLIGHT
BEGIN:STANDARD
TZOFFSETFROM:+0200
TZOFFSETTO:+0100
TZNAME:CET
DTSTART:20211031T010000
END:STANDARD
END:VTIMEZONE
BEGIN:VEVENT
DTSTART;TZID=Europe/Warsaw:20201002T090000
DTEND;TZID=Europe/Warsaw:20201002T153000
DTSTAMP:20260424T193558
CREATED:20200828T080051Z
LAST-MODIFIED:20210217T155216Z
UID:14372-1601629200-1601652600@tepis.org.pl
SUMMARY:Wystąpienia publiczne i emisja głosu - webinarium
DESCRIPTION:Warsztaty online z Alicją Kopertyńską „Wystąpienia publiczne i emisja głosu” \nWystąpienia publiczne i emisja głosu X 2020.docx
URL:https://tepis.org.pl/event/wystapienia-publiczne-i-emisja-glosu-webinarium/
CATEGORIES:2020 Akcje szkoleniowe PT TEPIS
ORGANIZER;CN="Kolegium Doskonalenia Zawodowego PT TEPIS":MAILTO:tepis@tepis.org.pl
END:VEVENT
END:VCALENDAR