BEGIN:VCALENDAR
VERSION:2.0
PRODID:-//PT TEPIS - ECPv6.15.20//NONSGML v1.0//EN
CALSCALE:GREGORIAN
METHOD:PUBLISH
X-WR-CALNAME:PT TEPIS
X-ORIGINAL-URL:https://tepis.org.pl
X-WR-CALDESC:Wydarzenia dla PT TEPIS
REFRESH-INTERVAL;VALUE=DURATION:PT1H
X-Robots-Tag:noindex
X-PUBLISHED-TTL:PT1H
BEGIN:VTIMEZONE
TZID:Europe/Warsaw
BEGIN:DAYLIGHT
TZOFFSETFROM:+0100
TZOFFSETTO:+0200
TZNAME:CEST
DTSTART:20190331T010000
END:DAYLIGHT
BEGIN:STANDARD
TZOFFSETFROM:+0200
TZOFFSETTO:+0100
TZNAME:CET
DTSTART:20191027T010000
END:STANDARD
BEGIN:DAYLIGHT
TZOFFSETFROM:+0100
TZOFFSETTO:+0200
TZNAME:CEST
DTSTART:20200329T010000
END:DAYLIGHT
BEGIN:STANDARD
TZOFFSETFROM:+0200
TZOFFSETTO:+0100
TZNAME:CET
DTSTART:20201025T010000
END:STANDARD
BEGIN:DAYLIGHT
TZOFFSETFROM:+0100
TZOFFSETTO:+0200
TZNAME:CEST
DTSTART:20210328T010000
END:DAYLIGHT
BEGIN:STANDARD
TZOFFSETFROM:+0200
TZOFFSETTO:+0100
TZNAME:CET
DTSTART:20211031T010000
END:STANDARD
END:VTIMEZONE
BEGIN:VEVENT
DTSTART;TZID=Europe/Warsaw:20201106T110000
DTEND;TZID=Europe/Warsaw:20201106T130000
DTSTAMP:20260424T180827
CREATED:20201029T092652Z
LAST-MODIFIED:20210217T155138Z
UID:14833-1604660400-1604667600@tepis.org.pl
SUMMARY:Zastosowanie kwalifikowanego podpisu elektronicznego w pracy tłumacza
DESCRIPTION:Zastosowanie kwalifikowanego podpisu elektronicznego w pracy tłumacza-webinarium na platformie ClickMeeting rejestracja\n \nszczegóły \nbezpłatne szkolenie dla tłumaczy
URL:https://tepis.org.pl/event/zastosowanie-kwalifikowanego-podpisu-elektronicznego-w-pracy-tlumacza/
CATEGORIES:2020 Akcje szkoleniowe PT TEPIS
END:VEVENT
END:VCALENDAR