BEGIN:VCALENDAR
VERSION:2.0
PRODID:-//PT TEPIS - ECPv6.15.20//NONSGML v1.0//EN
CALSCALE:GREGORIAN
METHOD:PUBLISH
X-ORIGINAL-URL:https://tepis.org.pl
X-WR-CALDESC:Wydarzenia dla PT TEPIS
REFRESH-INTERVAL;VALUE=DURATION:PT1H
X-Robots-Tag:noindex
X-PUBLISHED-TTL:PT1H
BEGIN:VTIMEZONE
TZID:Europe/Warsaw
BEGIN:DAYLIGHT
TZOFFSETFROM:+0100
TZOFFSETTO:+0200
TZNAME:CEST
DTSTART:20200329T010000
END:DAYLIGHT
BEGIN:STANDARD
TZOFFSETFROM:+0200
TZOFFSETTO:+0100
TZNAME:CET
DTSTART:20201025T010000
END:STANDARD
BEGIN:DAYLIGHT
TZOFFSETFROM:+0100
TZOFFSETTO:+0200
TZNAME:CEST
DTSTART:20210328T010000
END:DAYLIGHT
BEGIN:STANDARD
TZOFFSETFROM:+0200
TZOFFSETTO:+0100
TZNAME:CET
DTSTART:20211031T010000
END:STANDARD
BEGIN:DAYLIGHT
TZOFFSETFROM:+0100
TZOFFSETTO:+0200
TZNAME:CEST
DTSTART:20220327T010000
END:DAYLIGHT
BEGIN:STANDARD
TZOFFSETFROM:+0200
TZOFFSETTO:+0100
TZNAME:CET
DTSTART:20221030T010000
END:STANDARD
END:VTIMEZONE
BEGIN:VEVENT
DTSTART;TZID=Europe/Warsaw:20210115T170000
DTEND;TZID=Europe/Warsaw:20210115T183000
DTSTAMP:20260424T152044
CREATED:20201215T101010Z
LAST-MODIFIED:20210217T155016Z
UID:15254-1610730000-1610735400@tepis.org.pl
SUMMARY:Tłumaczenia medyczne (ang\, pol): diagnostyka obrazowa-druga edycja
DESCRIPTION:Webinarium pt. Tłumaczenia medyczne (ang\, pol): diagnostyka obrazowa (powtórzenie szkolenia z grudnia)\n \nWebinarium Tłumaczenia medyczne EN 2021.doc
URL:https://tepis.org.pl/event/tlumaczenia-medyczne-ang-pol-diagnostyka-obrazowa-druga-edycja/
CATEGORIES:2021 Akcje szkoleniowe PT TEPIS
END:VEVENT
BEGIN:VEVENT
DTSTART;TZID=Europe/Warsaw:20210115T175000
DTEND;TZID=Europe/Warsaw:20210115T200000
DTSTAMP:20260424T152044
CREATED:20210118T111526Z
LAST-MODIFIED:20210217T155006Z
UID:15391-1610733000-1610740800@tepis.org.pl
SUMMARY:Spotkanie Noworoczne Członków PT TEPIS
DESCRIPTION:Spotkanie Noworoczne Członków PT TEPIS. Gościem specjalnym jest Pan Jacek Walkiewicz\, psycholog\, mówca motywacyjny\, trener i mentor\, członek Stowarzyszenia Profesjonalnych Mówców. Pan Jacek Walkiewicz wygłosi wykład pt: „Pełna MOC w czasach zmian”.
URL:https://tepis.org.pl/event/spotkanie-noworoczne-czlonkow-pt-tepis/
CATEGORIES:2021 Akcje szkoleniowe PT TEPIS
END:VEVENT
END:VCALENDAR