BEGIN:VCALENDAR
VERSION:2.0
PRODID:-//PT TEPIS - ECPv6.15.20//NONSGML v1.0//EN
CALSCALE:GREGORIAN
METHOD:PUBLISH
X-WR-CALNAME:PT TEPIS
X-ORIGINAL-URL:https://tepis.org.pl
X-WR-CALDESC:Wydarzenia dla PT TEPIS
REFRESH-INTERVAL;VALUE=DURATION:PT1H
X-Robots-Tag:noindex
X-PUBLISHED-TTL:PT1H
BEGIN:VTIMEZONE
TZID:Europe/Warsaw
BEGIN:DAYLIGHT
TZOFFSETFROM:+0100
TZOFFSETTO:+0200
TZNAME:CEST
DTSTART:20200329T010000
END:DAYLIGHT
BEGIN:STANDARD
TZOFFSETFROM:+0200
TZOFFSETTO:+0100
TZNAME:CET
DTSTART:20201025T010000
END:STANDARD
BEGIN:DAYLIGHT
TZOFFSETFROM:+0100
TZOFFSETTO:+0200
TZNAME:CEST
DTSTART:20210328T010000
END:DAYLIGHT
BEGIN:STANDARD
TZOFFSETFROM:+0200
TZOFFSETTO:+0100
TZNAME:CET
DTSTART:20211031T010000
END:STANDARD
BEGIN:DAYLIGHT
TZOFFSETFROM:+0100
TZOFFSETTO:+0200
TZNAME:CEST
DTSTART:20220327T010000
END:DAYLIGHT
BEGIN:STANDARD
TZOFFSETFROM:+0200
TZOFFSETTO:+0100
TZNAME:CET
DTSTART:20221030T010000
END:STANDARD
END:VTIMEZONE
BEGIN:VEVENT
DTSTART;TZID=Europe/Warsaw:20210125T170000
DTEND;TZID=Europe/Warsaw:20210125T194500
DTSTAMP:20260424T151801
CREATED:20201209T102423Z
LAST-MODIFIED:20210217T154936Z
UID:15189-1611594000-1611603900@tepis.org.pl
SUMMARY:Gdzie szukać językowej pomocy? - J. pol. dla tłumaczy 3/3
DESCRIPTION:Cykl 3 webinariów Język polski dla tłumaczy II – część 3 pt. Gdzie szukać językowej pomocy? Przewodnik po internetowych źródłach wiedzy \nszczegóły
URL:https://tepis.org.pl/event/gdzie-szukac-jezykowej-pomocy-j-pol-dla-tlumaczy-3-3/
CATEGORIES:2021 Akcje szkoleniowe PT TEPIS
END:VEVENT
END:VCALENDAR