BEGIN:VCALENDAR
VERSION:2.0
PRODID:-//PT TEPIS - ECPv6.15.20//NONSGML v1.0//EN
CALSCALE:GREGORIAN
METHOD:PUBLISH
X-WR-CALNAME:PT TEPIS
X-ORIGINAL-URL:https://tepis.org.pl
X-WR-CALDESC:Wydarzenia dla PT TEPIS
REFRESH-INTERVAL;VALUE=DURATION:PT1H
X-Robots-Tag:noindex
X-PUBLISHED-TTL:PT1H
BEGIN:VTIMEZONE
TZID:Europe/Warsaw
BEGIN:DAYLIGHT
TZOFFSETFROM:+0100
TZOFFSETTO:+0200
TZNAME:CEST
DTSTART:20200329T010000
END:DAYLIGHT
BEGIN:STANDARD
TZOFFSETFROM:+0200
TZOFFSETTO:+0100
TZNAME:CET
DTSTART:20201025T010000
END:STANDARD
BEGIN:DAYLIGHT
TZOFFSETFROM:+0100
TZOFFSETTO:+0200
TZNAME:CEST
DTSTART:20210328T010000
END:DAYLIGHT
BEGIN:STANDARD
TZOFFSETFROM:+0200
TZOFFSETTO:+0100
TZNAME:CET
DTSTART:20211031T010000
END:STANDARD
BEGIN:DAYLIGHT
TZOFFSETFROM:+0100
TZOFFSETTO:+0200
TZNAME:CEST
DTSTART:20220327T010000
END:DAYLIGHT
BEGIN:STANDARD
TZOFFSETFROM:+0200
TZOFFSETTO:+0100
TZNAME:CET
DTSTART:20221030T010000
END:STANDARD
END:VTIMEZONE
BEGIN:VEVENT
DTSTART;TZID=Europe/Warsaw:20210218T100000
DTEND;TZID=Europe/Warsaw:20210218T142000
DTSTAMP:20260424T131524
CREATED:20210129T104146Z
LAST-MODIFIED:20210217T154632Z
UID:15464-1613642400-1613658000@tepis.org.pl
SUMMARY:Tłumaczenie w prawie autorskim - webinarium1/2
DESCRIPTION:Cykl 2 webinariów dla tłumaczy wszystkich języków pt.  \n„Tłumaczenie w prawie autorskim” \nszczegóły: Webinarium_Prawo autorskie 2021.doc \nDaty: 1 część:18.02.2021 r. (czwartek)\,  2 część: 25.02.2021 r. (czwartek)
URL:https://tepis.org.pl/event/tlumaczenie-w-prawie-autorskim-webinarium1-2/
CATEGORIES:2021 Akcje szkoleniowe PT TEPIS
END:VEVENT
END:VCALENDAR