BEGIN:VCALENDAR
VERSION:2.0
PRODID:-//PT TEPIS - ECPv6.15.20//NONSGML v1.0//EN
CALSCALE:GREGORIAN
METHOD:PUBLISH
X-WR-CALNAME:PT TEPIS
X-ORIGINAL-URL:https://tepis.org.pl
X-WR-CALDESC:Wydarzenia dla PT TEPIS
REFRESH-INTERVAL;VALUE=DURATION:PT1H
X-Robots-Tag:noindex
X-PUBLISHED-TTL:PT1H
BEGIN:VTIMEZONE
TZID:Europe/Warsaw
BEGIN:DAYLIGHT
TZOFFSETFROM:+0100
TZOFFSETTO:+0200
TZNAME:CEST
DTSTART:20200329T010000
END:DAYLIGHT
BEGIN:STANDARD
TZOFFSETFROM:+0200
TZOFFSETTO:+0100
TZNAME:CET
DTSTART:20201025T010000
END:STANDARD
BEGIN:DAYLIGHT
TZOFFSETFROM:+0100
TZOFFSETTO:+0200
TZNAME:CEST
DTSTART:20210328T010000
END:DAYLIGHT
BEGIN:STANDARD
TZOFFSETFROM:+0200
TZOFFSETTO:+0100
TZNAME:CET
DTSTART:20211031T010000
END:STANDARD
BEGIN:DAYLIGHT
TZOFFSETFROM:+0100
TZOFFSETTO:+0200
TZNAME:CEST
DTSTART:20220327T010000
END:DAYLIGHT
BEGIN:STANDARD
TZOFFSETFROM:+0200
TZOFFSETTO:+0100
TZNAME:CET
DTSTART:20221030T010000
END:STANDARD
END:VTIMEZONE
BEGIN:VEVENT
DTSTART;TZID=Europe/Warsaw:20210319T173000
DTEND;TZID=Europe/Warsaw:20210319T193000
DTSTAMP:20260424T113511
CREATED:20210301T081336Z
LAST-MODIFIED:20210308T123248Z
UID:15726-1616175000-1616182200@tepis.org.pl
SUMMARY:Szkolenie z sędzią - Wybrane aspekty prawa karnego procesowego
DESCRIPTION:Webinarium dla tłumaczy wszystkich języków pt. Wybrane aspekty prawa karnego procesowego ze szczególnym uwzględnieniem specyfiki terminologicznej postępowania przygotowawczego\, rozpoznawczego (sądowego)\, wykonawczego \nSzkolenie z sędzią Koła Podlaskiego \n 
URL:https://tepis.org.pl/event/szkolenie-z-sedzia-wybrane-aspekty-prawa-karnego-procesowego/
END:VEVENT
END:VCALENDAR