BEGIN:VCALENDAR
VERSION:2.0
PRODID:-//PT TEPIS - ECPv6.15.20//NONSGML v1.0//EN
CALSCALE:GREGORIAN
METHOD:PUBLISH
X-ORIGINAL-URL:https://tepis.org.pl
X-WR-CALDESC:Wydarzenia dla PT TEPIS
REFRESH-INTERVAL;VALUE=DURATION:PT1H
X-Robots-Tag:noindex
X-PUBLISHED-TTL:PT1H
BEGIN:VTIMEZONE
TZID:Europe/Warsaw
BEGIN:DAYLIGHT
TZOFFSETFROM:+0100
TZOFFSETTO:+0200
TZNAME:CEST
DTSTART:20200329T010000
END:DAYLIGHT
BEGIN:STANDARD
TZOFFSETFROM:+0200
TZOFFSETTO:+0100
TZNAME:CET
DTSTART:20201025T010000
END:STANDARD
BEGIN:DAYLIGHT
TZOFFSETFROM:+0100
TZOFFSETTO:+0200
TZNAME:CEST
DTSTART:20210328T010000
END:DAYLIGHT
BEGIN:STANDARD
TZOFFSETFROM:+0200
TZOFFSETTO:+0100
TZNAME:CET
DTSTART:20211031T010000
END:STANDARD
BEGIN:DAYLIGHT
TZOFFSETFROM:+0100
TZOFFSETTO:+0200
TZNAME:CEST
DTSTART:20220327T010000
END:DAYLIGHT
BEGIN:STANDARD
TZOFFSETFROM:+0200
TZOFFSETTO:+0100
TZNAME:CET
DTSTART:20221030T010000
END:STANDARD
END:VTIMEZONE
BEGIN:VEVENT
DTSTART;TZID=Europe/Warsaw:20210522T100000
DTEND;TZID=Europe/Warsaw:20210522T131500
DTSTAMP:20260424T075910
CREATED:20210420T112851Z
LAST-MODIFIED:20210420T112851Z
UID:16433-1621677600-1621689300@tepis.org.pl
SUMMARY:Webinarium z tematyki finansowo-gospodarczej dla tłumaczy j. włoskiego Część II
DESCRIPTION:Cykl webinariów z tematyki finansowo-gospodarczej dla tłumaczy języka włoskiego \n8 maja 2021 – Część I: Prawo gospodarcze (spółki oraz upadłość i restrukturyzacja) \n22 maja 2021 – Część II: Prawo bilansowe (rachunkowość\, sprawozdawczość\, audyt) \nszczegóły: Webinarium Prawo gosp_IT_05_2021.doc
URL:https://tepis.org.pl/event/webinarium-z-tematyki-finansowo-gospodarczej-dla-tlumaczy-j-wloskiego-czesc-ii/
END:VEVENT
END:VCALENDAR