BEGIN:VCALENDAR
VERSION:2.0
PRODID:-//PT TEPIS - ECPv6.15.20//NONSGML v1.0//EN
CALSCALE:GREGORIAN
METHOD:PUBLISH
X-WR-CALNAME:PT TEPIS
X-ORIGINAL-URL:https://tepis.org.pl
X-WR-CALDESC:Wydarzenia dla PT TEPIS
REFRESH-INTERVAL;VALUE=DURATION:PT1H
X-Robots-Tag:noindex
X-PUBLISHED-TTL:PT1H
BEGIN:VTIMEZONE
TZID:Europe/Warsaw
BEGIN:DAYLIGHT
TZOFFSETFROM:+0100
TZOFFSETTO:+0200
TZNAME:CEST
DTSTART:20200329T010000
END:DAYLIGHT
BEGIN:STANDARD
TZOFFSETFROM:+0200
TZOFFSETTO:+0100
TZNAME:CET
DTSTART:20201025T010000
END:STANDARD
BEGIN:DAYLIGHT
TZOFFSETFROM:+0100
TZOFFSETTO:+0200
TZNAME:CEST
DTSTART:20210328T010000
END:DAYLIGHT
BEGIN:STANDARD
TZOFFSETFROM:+0200
TZOFFSETTO:+0100
TZNAME:CET
DTSTART:20211031T010000
END:STANDARD
BEGIN:DAYLIGHT
TZOFFSETFROM:+0100
TZOFFSETTO:+0200
TZNAME:CEST
DTSTART:20220327T010000
END:DAYLIGHT
BEGIN:STANDARD
TZOFFSETFROM:+0200
TZOFFSETTO:+0100
TZNAME:CET
DTSTART:20221030T010000
END:STANDARD
END:VTIMEZONE
BEGIN:VEVENT
DTSTART;TZID=Europe/Warsaw:20210531T170000
DTEND;TZID=Europe/Warsaw:20210531T193000
DTSTAMP:20260424T062042
CREATED:20210409T073625Z
LAST-MODIFIED:20210409T073625Z
UID:16362-1622480400-1622489400@tepis.org.pl
SUMMARY:Pluricentryzm w teorii i praktyce - dokumenty szwajcarskie 2/2
DESCRIPTION:Cykl webinariów dla tłumaczy języka niemieckiego: Pluricentryzm w teorii i praktyce tłumaczenia na przykładzie austriackich/szwajcarskich dokumentów urzędowych i prawniczych. \nTerminy: \n\n10 i 17 maja  2021 r. (poniedziałki) dokumenty austriackie\n24 i 31 maja  2021 r. (poniedziałki) dokumenty szwajcarskie\n\nSzczegóły: https://tepis.org.pl/wp-content/uploads/2021/04/Webinarium-Pluricentryzm_AT_CH_DE_05.2021.doc.pdf
URL:https://tepis.org.pl/event/pluricentryzm-w-teorii-i-praktyce-dokumenty-szwajcarskie-2-2-2/
END:VEVENT
END:VCALENDAR