BEGIN:VCALENDAR
VERSION:2.0
PRODID:-//PT TEPIS - ECPv6.15.20//NONSGML v1.0//EN
CALSCALE:GREGORIAN
METHOD:PUBLISH
X-ORIGINAL-URL:https://tepis.org.pl
X-WR-CALDESC:Wydarzenia dla PT TEPIS
REFRESH-INTERVAL;VALUE=DURATION:PT1H
X-Robots-Tag:noindex
X-PUBLISHED-TTL:PT1H
BEGIN:VTIMEZONE
TZID:Europe/Warsaw
BEGIN:DAYLIGHT
TZOFFSETFROM:+0100
TZOFFSETTO:+0200
TZNAME:CEST
DTSTART:20200329T010000
END:DAYLIGHT
BEGIN:STANDARD
TZOFFSETFROM:+0200
TZOFFSETTO:+0100
TZNAME:CET
DTSTART:20201025T010000
END:STANDARD
BEGIN:DAYLIGHT
TZOFFSETFROM:+0100
TZOFFSETTO:+0200
TZNAME:CEST
DTSTART:20210328T010000
END:DAYLIGHT
BEGIN:STANDARD
TZOFFSETFROM:+0200
TZOFFSETTO:+0100
TZNAME:CET
DTSTART:20211031T010000
END:STANDARD
BEGIN:DAYLIGHT
TZOFFSETFROM:+0100
TZOFFSETTO:+0200
TZNAME:CEST
DTSTART:20220327T010000
END:DAYLIGHT
BEGIN:STANDARD
TZOFFSETFROM:+0200
TZOFFSETTO:+0100
TZNAME:CET
DTSTART:20221030T010000
END:STANDARD
END:VTIMEZONE
BEGIN:VEVENT
DTSTART;TZID=Europe/Warsaw:20210623T090000
DTEND;TZID=Europe/Warsaw:20210623T103000
DTSTAMP:20260424T061757
CREATED:20210505T134415Z
LAST-MODIFIED:20210505T134415Z
UID:16520-1624438800-1624444200@tepis.org.pl
SUMMARY:Rachunkowość dla tłumaczy jęz. angielskiego - webinarium cz.6/8
DESCRIPTION:Cykl ośmiu webinariów dla tłumaczy jęz. angielskiego: Elementy sprawozdania finansowego wg US GAAP\, MSR/MSSF oraz polskiej Ustawy o rachunkowości \nWebinarium rachunkowość EN 2021.doc \nCzęść VI. Noty do sprawozdań finansowych\, ciąg dalszy \nPrezentacja pojęć związanych z pasywami i podatkami. \nPodatek odroczony (deferred tax) i pojęcia pokrewne (deferred tax asset\, deferred tax liability\, tax base of an asset/liability\, tax loss carryforward). Przedstawienie istoty podatku odroczonego oraz terminologii związanej z jego ujęciem w księgach i sprawozdaniach finansowych.
URL:https://tepis.org.pl/event/rachunkowosc-dla-tlumaczy-jez-angielskiego-webinarium-cz-6-8/
END:VEVENT
BEGIN:VEVENT
DTSTART;TZID=Europe/Warsaw:20210623T170000
DTEND;TZID=Europe/Warsaw:20210623T193000
DTSTAMP:20260424T061757
CREATED:20210517T075620Z
LAST-MODIFIED:20210517T075620Z
UID:16728-1624467600-1624476600@tepis.org.pl
SUMMARY:Pluricentryzm w teorii i praktyce - dokumenty szwajcarskie 2/2
DESCRIPTION:Cykl webinariów dla tłumaczy języka niemieckiego: Pluricentryzm w teorii i praktyce tłumaczenia na przykładzie austriackich/szwajcarskich dokumentów urzędowych i prawniczych  – trzecia edycja. \nSzczegóły: Webinarium Pluricentryzm_AT_CH_DE_06.2021.doc
URL:https://tepis.org.pl/event/pluricentryzm-w-teorii-i-praktyce-dokumenty-szwajcarskie-2-2-3/
END:VEVENT
END:VCALENDAR