BEGIN:VCALENDAR
VERSION:2.0
PRODID:-//PT TEPIS - ECPv6.15.20//NONSGML v1.0//EN
CALSCALE:GREGORIAN
METHOD:PUBLISH
X-ORIGINAL-URL:https://tepis.org.pl
X-WR-CALDESC:Wydarzenia dla PT TEPIS
REFRESH-INTERVAL;VALUE=DURATION:PT1H
X-Robots-Tag:noindex
X-PUBLISHED-TTL:PT1H
BEGIN:VTIMEZONE
TZID:Europe/Warsaw
BEGIN:DAYLIGHT
TZOFFSETFROM:+0100
TZOFFSETTO:+0200
TZNAME:CEST
DTSTART:20200329T010000
END:DAYLIGHT
BEGIN:STANDARD
TZOFFSETFROM:+0200
TZOFFSETTO:+0100
TZNAME:CET
DTSTART:20201025T010000
END:STANDARD
BEGIN:DAYLIGHT
TZOFFSETFROM:+0100
TZOFFSETTO:+0200
TZNAME:CEST
DTSTART:20210328T010000
END:DAYLIGHT
BEGIN:STANDARD
TZOFFSETFROM:+0200
TZOFFSETTO:+0100
TZNAME:CET
DTSTART:20211031T010000
END:STANDARD
BEGIN:DAYLIGHT
TZOFFSETFROM:+0100
TZOFFSETTO:+0200
TZNAME:CEST
DTSTART:20220327T010000
END:DAYLIGHT
BEGIN:STANDARD
TZOFFSETFROM:+0200
TZOFFSETTO:+0100
TZNAME:CET
DTSTART:20221030T010000
END:STANDARD
END:VTIMEZONE
BEGIN:VEVENT
DTSTART;TZID=Europe/Warsaw:20210929T180000
DTEND;TZID=Europe/Warsaw:20210929T193000
DTSTAMP:20260424T001439
CREATED:20210916T095101Z
LAST-MODIFIED:20210916T095427Z
UID:17288-1632938400-1632943800@tepis.org.pl
SUMMARY:Webinarium dla tłumaczy j. hiszpańskiego cz. 1/4
DESCRIPTION:Cykl czterech webinariów dla tłumaczy języka hiszpańskiego \npt. EL CONTEXTO HISTÓRICO\, LA ESTRUCTURA DEL ESTADO Y LA SITUACIÓN POLÍTICA DE ESPAÑA \n29.09.2021 – CONTEXTO HISTÓRICO DE LA ESPAÑA ACTUAL (SIGLO XX) \n06.10.2021 – ESTRUCTURA FORMAL DEL ESTADO ESPAÑOL \n13.10.2021 – ESTRUCTURA TERRITORIAL DE ESPAÑA \n20.10.2021 – SITUACIÓN POLÍTICA ACTUAL \nszczegóły >>>Webinarium_CIMAD_ES_2021
URL:https://tepis.org.pl/event/webinarium-dla-tlumaczy-j-hiszpanskiego-cz-1-4/
END:VEVENT
END:VCALENDAR