BEGIN:VCALENDAR
VERSION:2.0
PRODID:-//PT TEPIS - ECPv6.15.20//NONSGML v1.0//EN
CALSCALE:GREGORIAN
METHOD:PUBLISH
X-WR-CALNAME:PT TEPIS
X-ORIGINAL-URL:https://tepis.org.pl
X-WR-CALDESC:Wydarzenia dla PT TEPIS
REFRESH-INTERVAL;VALUE=DURATION:PT1H
X-Robots-Tag:noindex
X-PUBLISHED-TTL:PT1H
BEGIN:VTIMEZONE
TZID:Europe/Warsaw
BEGIN:DAYLIGHT
TZOFFSETFROM:+0100
TZOFFSETTO:+0200
TZNAME:CEST
DTSTART:20200329T010000
END:DAYLIGHT
BEGIN:STANDARD
TZOFFSETFROM:+0200
TZOFFSETTO:+0100
TZNAME:CET
DTSTART:20201025T010000
END:STANDARD
BEGIN:DAYLIGHT
TZOFFSETFROM:+0100
TZOFFSETTO:+0200
TZNAME:CEST
DTSTART:20210328T010000
END:DAYLIGHT
BEGIN:STANDARD
TZOFFSETFROM:+0200
TZOFFSETTO:+0100
TZNAME:CET
DTSTART:20211031T010000
END:STANDARD
BEGIN:DAYLIGHT
TZOFFSETFROM:+0100
TZOFFSETTO:+0200
TZNAME:CEST
DTSTART:20220327T010000
END:DAYLIGHT
BEGIN:STANDARD
TZOFFSETFROM:+0200
TZOFFSETTO:+0100
TZNAME:CET
DTSTART:20221030T010000
END:STANDARD
END:VTIMEZONE
BEGIN:VEVENT
DTSTART;TZID=Europe/Warsaw:20211014T100000
DTEND;TZID=Europe/Warsaw:20211014T131500
DTSTAMP:20260424T163720
CREATED:20210820T082527Z
LAST-MODIFIED:20210903T070022Z
UID:17216-1634205600-1634217300@tepis.org.pl
SUMMARY:Webinarium -Terminologia mikro- i makro-ekon. (EN/PL) cz.9 i 10/10
DESCRIPTION:Cykl 10 webinariów dr Agaty Koci dla tłumaczy języka angielskiego pt. \n„Terminologia mikro- i makro-ekonomiczna gospodarek kapitalistycznych”. \nWebinarium 9 i 10 w dniu 14.10.2021 r.\nCzęść 9 – godz. 10.00-11.30\nTematem spotkania będą rynki finansowe\, w tym omówione zostaną podstawowe\ninstrumenty rynku dłużnego\, kapitałowego i rynku instrumentów pochodnych.\nCzęść 10 – godz. 11.45-13.15\n10. Podczas spotkania zostaną omówione czynniki wzrostu gospodarczego oraz cykl\nkoniunkturalny. Część spotkania będzie poświęcone na podsumowanie szkolenia.
URL:https://tepis.org.pl/event/webinarium-terminologia-mikro-i-makro-en-pl-cz-9-i-10-10/
END:VEVENT
END:VCALENDAR