BEGIN:VCALENDAR
VERSION:2.0
PRODID:-//PT TEPIS - ECPv6.15.20//NONSGML v1.0//EN
CALSCALE:GREGORIAN
METHOD:PUBLISH
X-ORIGINAL-URL:https://tepis.org.pl
X-WR-CALDESC:Wydarzenia dla PT TEPIS
REFRESH-INTERVAL;VALUE=DURATION:PT1H
X-Robots-Tag:noindex
X-PUBLISHED-TTL:PT1H
BEGIN:VTIMEZONE
TZID:Europe/Warsaw
BEGIN:DAYLIGHT
TZOFFSETFROM:+0100
TZOFFSETTO:+0200
TZNAME:CEST
DTSTART:20210328T010000
END:DAYLIGHT
BEGIN:STANDARD
TZOFFSETFROM:+0200
TZOFFSETTO:+0100
TZNAME:CET
DTSTART:20211031T010000
END:STANDARD
BEGIN:DAYLIGHT
TZOFFSETFROM:+0100
TZOFFSETTO:+0200
TZNAME:CEST
DTSTART:20220327T010000
END:DAYLIGHT
BEGIN:STANDARD
TZOFFSETFROM:+0200
TZOFFSETTO:+0100
TZNAME:CET
DTSTART:20221030T010000
END:STANDARD
BEGIN:DAYLIGHT
TZOFFSETFROM:+0100
TZOFFSETTO:+0200
TZNAME:CEST
DTSTART:20230326T010000
END:DAYLIGHT
BEGIN:STANDARD
TZOFFSETFROM:+0200
TZOFFSETTO:+0100
TZNAME:CET
DTSTART:20231029T010000
END:STANDARD
END:VTIMEZONE
BEGIN:VEVENT
DTSTART;VALUE=DATE:20220209
DTEND;VALUE=DATE:20220211
DTSTAMP:20260423T192040
CREATED:20220111T134124Z
LAST-MODIFIED:20220111T140253Z
UID:18215-1644364800-1644537599@tepis.org.pl
SUMMARY:Konferencja Naukowo-Edukacyjna „Języki specjalistyczne w badaniach i praktyce”\, Katowice (online)
DESCRIPTION:Konferencja Naukowo – Edukacyjna „Języki specjalistyczne w badaniach i praktyce 2: dobre praktyki\, nowe inspiracje”\,\nKatowice (online) w dniach 9-10.02.2022\nszczegóły>>>
URL:https://tepis.org.pl/event/konferencja-naukowo-edukacyjna-jezyki-specjalistyczne-w-badaniach-i-praktyce-katowice-online/
END:VEVENT
BEGIN:VEVENT
DTSTART;TZID=Europe/Warsaw:20220210T180000
DTEND;TZID=Europe/Warsaw:20220210T200000
DTSTAMP:20260423T192040
CREATED:20220207T084331Z
LAST-MODIFIED:20220207T084331Z
UID:18442-1644516000-1644523200@tepis.org.pl
SUMMARY:Polski Ład – informacje dla tłumaczy\, cz. 2_webinarium
DESCRIPTION:Webinarium pt. Polski Ład – informacje dla tłumaczy\, cz. 2 \npolski ład_cz2_2022.doc \n 
URL:https://tepis.org.pl/event/polski-lad-informacje-dla-tlumaczy-cz-2_webinarium/
END:VEVENT
END:VCALENDAR