BEGIN:VCALENDAR
VERSION:2.0
PRODID:-//PT TEPIS - ECPv6.15.20//NONSGML v1.0//EN
CALSCALE:GREGORIAN
METHOD:PUBLISH
X-WR-CALNAME:PT TEPIS
X-ORIGINAL-URL:https://tepis.org.pl
X-WR-CALDESC:Wydarzenia dla PT TEPIS
REFRESH-INTERVAL;VALUE=DURATION:PT1H
X-Robots-Tag:noindex
X-PUBLISHED-TTL:PT1H
BEGIN:VTIMEZONE
TZID:Europe/Warsaw
BEGIN:DAYLIGHT
TZOFFSETFROM:+0100
TZOFFSETTO:+0200
TZNAME:CEST
DTSTART:20210328T010000
END:DAYLIGHT
BEGIN:STANDARD
TZOFFSETFROM:+0200
TZOFFSETTO:+0100
TZNAME:CET
DTSTART:20211031T010000
END:STANDARD
BEGIN:DAYLIGHT
TZOFFSETFROM:+0100
TZOFFSETTO:+0200
TZNAME:CEST
DTSTART:20220327T010000
END:DAYLIGHT
BEGIN:STANDARD
TZOFFSETFROM:+0200
TZOFFSETTO:+0100
TZNAME:CET
DTSTART:20221030T010000
END:STANDARD
BEGIN:DAYLIGHT
TZOFFSETFROM:+0100
TZOFFSETTO:+0200
TZNAME:CEST
DTSTART:20230326T010000
END:DAYLIGHT
BEGIN:STANDARD
TZOFFSETFROM:+0200
TZOFFSETTO:+0100
TZNAME:CET
DTSTART:20231029T010000
END:STANDARD
END:VTIMEZONE
BEGIN:VEVENT
DTSTART;TZID=Europe/Warsaw:20220215T173000
DTEND;TZID=Europe/Warsaw:20220215T200000
DTSTAMP:20260423T192024
CREATED:20220127T094328Z
LAST-MODIFIED:20220127T094901Z
UID:18370-1644946200-1644955200@tepis.org.pl
SUMMARY:Polskie i niemieckojęzyczne dokumenty urzędu skarbowego jako przedmiot tłumaczenia poświadczonego/Webinarium1/3
DESCRIPTION:Webinarium pt. „Polskie i niemieckojęzyczne dokumenty urzędu skarbowego jako przedmiot tłumaczenia poświadczonego”\, poprowadzi prof. Artur Kubacki. \nSzkolenie obejmuje 3 spotkania online w dniach: 15 i 22 lutego oraz 1 marca 2022 r. (wtorki) w godz. 17.30 – 20.00 \nszczegóły>>>Webinarium_dok. finansowe_ADK_02.2022
URL:https://tepis.org.pl/event/polskie-i-niemieckojezyczne-dokumenty-urzedu-skarbowego-jako-przedmiot-tlumaczenia-poswiadczonego-webinarium1-3/
END:VEVENT
END:VCALENDAR