BEGIN:VCALENDAR
VERSION:2.0
PRODID:-//PT TEPIS - ECPv6.15.20//NONSGML v1.0//EN
CALSCALE:GREGORIAN
METHOD:PUBLISH
X-WR-CALNAME:PT TEPIS
X-ORIGINAL-URL:https://tepis.org.pl
X-WR-CALDESC:Wydarzenia dla PT TEPIS
REFRESH-INTERVAL;VALUE=DURATION:PT1H
X-Robots-Tag:noindex
X-PUBLISHED-TTL:PT1H
BEGIN:VTIMEZONE
TZID:Europe/Warsaw
BEGIN:DAYLIGHT
TZOFFSETFROM:+0100
TZOFFSETTO:+0200
TZNAME:CEST
DTSTART:20210328T010000
END:DAYLIGHT
BEGIN:STANDARD
TZOFFSETFROM:+0200
TZOFFSETTO:+0100
TZNAME:CET
DTSTART:20211031T010000
END:STANDARD
BEGIN:DAYLIGHT
TZOFFSETFROM:+0100
TZOFFSETTO:+0200
TZNAME:CEST
DTSTART:20220327T010000
END:DAYLIGHT
BEGIN:STANDARD
TZOFFSETFROM:+0200
TZOFFSETTO:+0100
TZNAME:CET
DTSTART:20221030T010000
END:STANDARD
BEGIN:DAYLIGHT
TZOFFSETFROM:+0100
TZOFFSETTO:+0200
TZNAME:CEST
DTSTART:20230326T010000
END:DAYLIGHT
BEGIN:STANDARD
TZOFFSETFROM:+0200
TZOFFSETTO:+0100
TZNAME:CET
DTSTART:20231029T010000
END:STANDARD
END:VTIMEZONE
BEGIN:VEVENT
DTSTART;TZID=Europe/Warsaw:20220301T170000
DTEND;TZID=Europe/Warsaw:20220301T183000
DTSTAMP:20260423T175831
CREATED:20220209T105144Z
LAST-MODIFIED:20220209T105144Z
UID:18474-1646154000-1646159400@tepis.org.pl
SUMMARY:Kurs z zakresu prawa\, moduł 1 Warsztaty- język francuski
DESCRIPTION:Webinarium „Kurs dla tłumaczy języków obcych z zakresu prawa 2022-2023”  \n1 moduł podstawowy: Warsztaty tematyczne w sekcjach językowych – sekcja francuska \nTemat I. Prawo cywilne materialne \nSzczegóły>>>
URL:https://tepis.org.pl/event/kurs-z-zakresu-prawa-modul-1-warsztaty-jezyk-francuski/
END:VEVENT
BEGIN:VEVENT
DTSTART;TZID=Europe/Warsaw:20220301T173000
DTEND;TZID=Europe/Warsaw:20220301T200000
DTSTAMP:20260423T175831
CREATED:20220127T094721Z
LAST-MODIFIED:20220127T094721Z
UID:18375-1646155800-1646164800@tepis.org.pl
SUMMARY:Polskie i niemieckojęzyczne dokumenty urzędu skarbowego jako przedmiot tłumaczenia poświadczonego/Webinarium 3/3
DESCRIPTION:Webinarium pt. „Polskie i niemieckojęzyczne dokumenty urzędu skarbowego jako przedmiot tłumaczenia poświadczonego”\, poprowadzi prof. Artur Kubacki. \nSzkolenie obejmuje 3 spotkania online w dniach: 15 i 22 lutego oraz 1 marca 2022 r. (wtorki) w godz. 17.30 – 20.00 \nszczegóły>>>Webinarium_dok. finansowe_ADK_02.2022
URL:https://tepis.org.pl/event/polskie-i-niemieckojezyczne-dokumenty-urzedu-skarbowego-jako-przedmiot-tlumaczenia-poswiadczonego-webinarium-3-3/
END:VEVENT
BEGIN:VEVENT
DTSTART;TZID=Europe/Warsaw:20220301T184500
DTEND;TZID=Europe/Warsaw:20220301T201500
DTSTAMP:20260423T175831
CREATED:20220209T105741Z
LAST-MODIFIED:20220209T105837Z
UID:18477-1646160300-1646165700@tepis.org.pl
SUMMARY:Kurs z zakresu prawa\, moduł 1 Warsztaty- język włoski
DESCRIPTION:Webinarium „Kurs dla tłumaczy języków obcych z zakresu prawa 2022-2023”  \n1 moduł podstawowy: Warsztaty tematyczne w sekcjach językowych – sekcja włoska \nTemat I. Prawo cywilne materialne \nSzczegóły>>>
URL:https://tepis.org.pl/event/kurs-z-zakresu-prawa-modul-1-warsztaty-jezyk-wloski/
END:VEVENT
END:VCALENDAR