BEGIN:VCALENDAR
VERSION:2.0
PRODID:-//PT TEPIS - ECPv6.15.20//NONSGML v1.0//EN
CALSCALE:GREGORIAN
METHOD:PUBLISH
X-WR-CALNAME:PT TEPIS
X-ORIGINAL-URL:https://tepis.org.pl
X-WR-CALDESC:Wydarzenia dla PT TEPIS
REFRESH-INTERVAL;VALUE=DURATION:PT1H
X-Robots-Tag:noindex
X-PUBLISHED-TTL:PT1H
BEGIN:VTIMEZONE
TZID:Europe/Warsaw
BEGIN:DAYLIGHT
TZOFFSETFROM:+0100
TZOFFSETTO:+0200
TZNAME:CEST
DTSTART:20210328T010000
END:DAYLIGHT
BEGIN:STANDARD
TZOFFSETFROM:+0200
TZOFFSETTO:+0100
TZNAME:CET
DTSTART:20211031T010000
END:STANDARD
BEGIN:DAYLIGHT
TZOFFSETFROM:+0100
TZOFFSETTO:+0200
TZNAME:CEST
DTSTART:20220327T010000
END:DAYLIGHT
BEGIN:STANDARD
TZOFFSETFROM:+0200
TZOFFSETTO:+0100
TZNAME:CET
DTSTART:20221030T010000
END:STANDARD
BEGIN:DAYLIGHT
TZOFFSETFROM:+0100
TZOFFSETTO:+0200
TZNAME:CEST
DTSTART:20230326T010000
END:DAYLIGHT
BEGIN:STANDARD
TZOFFSETFROM:+0200
TZOFFSETTO:+0100
TZNAME:CET
DTSTART:20231029T010000
END:STANDARD
END:VTIMEZONE
BEGIN:VEVENT
DTSTART;VALUE=DATE:20220317
DTEND;VALUE=DATE:20220319
DTSTAMP:20260423T175716
CREATED:20220111T132412Z
LAST-MODIFIED:20220111T132505Z
UID:18209-1647475200-1647647999@tepis.org.pl
SUMMARY:Trzeci Kongres Konsorcjum do Badań nad Edukacją Tłumacza\, Kraków
DESCRIPTION:Trzeci Kongres Konsorcjum do Badań nad Edukacją Tłumacza\nKraków\, 17-18.03.2022 r. (tryb online lub onsite)\nszczegóły>>>
URL:https://tepis.org.pl/event/trzeci-kongres-konsorcjum-do-badan-nad-edukacja-tlumacza-krakow/
END:VEVENT
BEGIN:VEVENT
DTSTART;TZID=Europe/Warsaw:20220317T180000
DTEND;TZID=Europe/Warsaw:20220317T203000
DTSTAMP:20260423T175716
CREATED:20220224T110548Z
LAST-MODIFIED:20220224T111115Z
UID:18676-1647540000-1647549000@tepis.org.pl
SUMMARY:Wykonywanie zawodu tłumacza przysięgłego-webinarium 1/3
DESCRIPTION:Webinarium pt. „Wykonywanie zawodu tłumacza przysięgłego” \npoprowadzi adw. Paweł Gugała  \nSzkolenie obejmuje 3 spotkania online w dniach: \n17\, 24 i 31 marca 2022 r. (czwartki) w godz. 18.00 – 20.30 \nWebinarium_wykonywanie_zawodu_TP_03_2022.doc
URL:https://tepis.org.pl/event/wykonywanie-zawodu-tlumacza-przysieglego-webinarium-1-3/
CATEGORIES:2022 Akcje szkoleniowe PT TEPIS
END:VEVENT
END:VCALENDAR