BEGIN:VCALENDAR
VERSION:2.0
PRODID:-//PT TEPIS - ECPv6.15.20//NONSGML v1.0//EN
CALSCALE:GREGORIAN
METHOD:PUBLISH
X-WR-CALNAME:PT TEPIS
X-ORIGINAL-URL:https://tepis.org.pl
X-WR-CALDESC:Wydarzenia dla PT TEPIS
REFRESH-INTERVAL;VALUE=DURATION:PT1H
X-Robots-Tag:noindex
X-PUBLISHED-TTL:PT1H
BEGIN:VTIMEZONE
TZID:Europe/Warsaw
BEGIN:DAYLIGHT
TZOFFSETFROM:+0100
TZOFFSETTO:+0200
TZNAME:CEST
DTSTART:20210328T010000
END:DAYLIGHT
BEGIN:STANDARD
TZOFFSETFROM:+0200
TZOFFSETTO:+0100
TZNAME:CET
DTSTART:20211031T010000
END:STANDARD
BEGIN:DAYLIGHT
TZOFFSETFROM:+0100
TZOFFSETTO:+0200
TZNAME:CEST
DTSTART:20220327T010000
END:DAYLIGHT
BEGIN:STANDARD
TZOFFSETFROM:+0200
TZOFFSETTO:+0100
TZNAME:CET
DTSTART:20221030T010000
END:STANDARD
BEGIN:DAYLIGHT
TZOFFSETFROM:+0100
TZOFFSETTO:+0200
TZNAME:CEST
DTSTART:20230326T010000
END:DAYLIGHT
BEGIN:STANDARD
TZOFFSETFROM:+0200
TZOFFSETTO:+0100
TZNAME:CET
DTSTART:20231029T010000
END:STANDARD
END:VTIMEZONE
BEGIN:VEVENT
DTSTART;TZID=Europe/Warsaw:20220602T170000
DTEND;TZID=Europe/Warsaw:20220602T183000
DTSTAMP:20260423T132937
CREATED:20220210T162516Z
LAST-MODIFIED:20220210T162516Z
UID:18561-1654189200-1654194600@tepis.org.pl
SUMMARY:Kurs z zakresu prawa\, moduł 2\, warsztaty- język rosyjski
DESCRIPTION:Webinarium „Kurs dla tłumaczy języków obcych z zakresu prawa 2022 -2023” \n2 moduł podstawowy: Warsztaty tematyczne w sekcjach językowych – sekcja rosyjska \nTemat II. PRAWO CYWILNE PROCESOWE \nProgram_kurs_prawa_2022_2023
URL:https://tepis.org.pl/event/kurs-z-zakresu-prawa-modul-2-warsztaty-jezyk-rosyjski/
END:VEVENT
BEGIN:VEVENT
DTSTART;TZID=Europe/Warsaw:20220602T184500
DTEND;TZID=Europe/Warsaw:20220602T201500
DTSTAMP:20260423T132937
CREATED:20220210T162748Z
LAST-MODIFIED:20220210T162748Z
UID:18563-1654195500-1654200900@tepis.org.pl
SUMMARY:Kurs z zakresu prawa\, moduł 2\, warsztaty- język ukraiński
DESCRIPTION:Webinarium „Kurs dla tłumaczy języków obcych z zakresu prawa 2022 -2023” \n2 moduł podstawowy: Warsztaty tematyczne w sekcjach językowych – sekcja ukraińska \nTemat II. PRAWO CYWILNE PROCESOWE \nProgram_kurs_prawa_2022_2023
URL:https://tepis.org.pl/event/kurs-z-zakresu-prawa-modul-2-warsztaty-jezyk-ukrainski/
END:VEVENT
END:VCALENDAR