BEGIN:VCALENDAR
VERSION:2.0
PRODID:-//PT TEPIS - ECPv6.15.20//NONSGML v1.0//EN
CALSCALE:GREGORIAN
METHOD:PUBLISH
X-ORIGINAL-URL:https://tepis.org.pl
X-WR-CALDESC:Wydarzenia dla PT TEPIS
REFRESH-INTERVAL;VALUE=DURATION:PT1H
X-Robots-Tag:noindex
X-PUBLISHED-TTL:PT1H
BEGIN:VTIMEZONE
TZID:Europe/Warsaw
BEGIN:DAYLIGHT
TZOFFSETFROM:+0100
TZOFFSETTO:+0200
TZNAME:CEST
DTSTART:20210328T010000
END:DAYLIGHT
BEGIN:STANDARD
TZOFFSETFROM:+0200
TZOFFSETTO:+0100
TZNAME:CET
DTSTART:20211031T010000
END:STANDARD
BEGIN:DAYLIGHT
TZOFFSETFROM:+0100
TZOFFSETTO:+0200
TZNAME:CEST
DTSTART:20220327T010000
END:DAYLIGHT
BEGIN:STANDARD
TZOFFSETFROM:+0200
TZOFFSETTO:+0100
TZNAME:CET
DTSTART:20221030T010000
END:STANDARD
BEGIN:DAYLIGHT
TZOFFSETFROM:+0100
TZOFFSETTO:+0200
TZNAME:CEST
DTSTART:20230326T010000
END:DAYLIGHT
BEGIN:STANDARD
TZOFFSETFROM:+0200
TZOFFSETTO:+0100
TZNAME:CET
DTSTART:20231029T010000
END:STANDARD
END:VTIMEZONE
BEGIN:VEVENT
DTSTART;VALUE=DATE:20220607
DTEND;VALUE=DATE:20220608
DTSTAMP:20260423T133608
CREATED:20220602T135358Z
LAST-MODIFIED:20220602T135358Z
UID:19425-1654560000-1654646399@tepis.org.pl
SUMMARY:Warsztaty pt. Localisation & Technical Writing\, Warszawa
DESCRIPTION:Warsztaty pt. Localisation & Technical Writing w ramach projektu Translating Europe Workshop (TEW) odbędą się 7 czerwca 2022 w budynku ILS-u przy ulicy Dobrej 55 w Warszawie \nOrganizator: Dyrekcja Generalna ds. Tłumaczeń Pisemnych (DGT) Komisji Europejskiej oraz Instytut Lingwistyki Stosowanej (ILS) Uniwersytetu Warszawskiego \nCzęść wykładowa konferencji odbędzie się w języku angielskim; udział w wydarzeniu jest bezpłatny\, ale ze względu na limit miejsc obowiązuje rejestracja pod adresem krzysztof.nalepa@ec.europa.eu \nProgram TEW TEW_LOCALISATION.docx (uw.edu.pl) \n  \n 
URL:https://tepis.org.pl/event/warsztaty-pt-localisation-technical-writing-warszawa/
END:VEVENT
END:VCALENDAR