BEGIN:VCALENDAR
VERSION:2.0
PRODID:-//PT TEPIS - ECPv6.15.20//NONSGML v1.0//EN
CALSCALE:GREGORIAN
METHOD:PUBLISH
X-WR-CALNAME:PT TEPIS
X-ORIGINAL-URL:https://tepis.org.pl
X-WR-CALDESC:Wydarzenia dla PT TEPIS
REFRESH-INTERVAL;VALUE=DURATION:PT1H
X-Robots-Tag:noindex
X-PUBLISHED-TTL:PT1H
BEGIN:VTIMEZONE
TZID:Europe/Warsaw
BEGIN:DAYLIGHT
TZOFFSETFROM:+0100
TZOFFSETTO:+0200
TZNAME:CEST
DTSTART:20210328T010000
END:DAYLIGHT
BEGIN:STANDARD
TZOFFSETFROM:+0200
TZOFFSETTO:+0100
TZNAME:CET
DTSTART:20211031T010000
END:STANDARD
BEGIN:DAYLIGHT
TZOFFSETFROM:+0100
TZOFFSETTO:+0200
TZNAME:CEST
DTSTART:20220327T010000
END:DAYLIGHT
BEGIN:STANDARD
TZOFFSETFROM:+0200
TZOFFSETTO:+0100
TZNAME:CET
DTSTART:20221030T010000
END:STANDARD
BEGIN:DAYLIGHT
TZOFFSETFROM:+0100
TZOFFSETTO:+0200
TZNAME:CEST
DTSTART:20230326T010000
END:DAYLIGHT
BEGIN:STANDARD
TZOFFSETFROM:+0200
TZOFFSETTO:+0100
TZNAME:CET
DTSTART:20231029T010000
END:STANDARD
END:VTIMEZONE
BEGIN:VEVENT
DTSTART;TZID=Europe/Warsaw:20220609T170000
DTEND;TZID=Europe/Warsaw:20220609T200000
DTSTAMP:20260423T133608
CREATED:20220602T063858Z
LAST-MODIFIED:20220602T133626Z
UID:19422-1654794000-1654804800@tepis.org.pl
SUMMARY:Spotkanie Podlaskiego Koła  PT TEPIS\, Białystok
DESCRIPTION:Zarząd Podlaskiego Koła  PT TEPIS  zaprasza na spotkanie integracyjne: \nMiejsce: restauracja Kawelin przy ul. Legionowej 10\, Białystok  \nGość specjalny: Leszek Łapiński\, absolwent nauk politycznych na Columbia University w Nowym Jorku i doktor prawa (Brooklyn Law School)  \nTemat spotkania: Check and balances – WHAT IS IT AND HOW IT WORKS – prezentacja ogólnego zarysu amerykańskiego systemu politycznego. Wystąpienie odbędzie się w j. angielskim z pytaniami i dyskusją w j. polskim. \nProsimy o zgłoszenia do wtorku 07.06.2022 r.  \nna adres mailowy Koła: podlaskie@tepis.org.pl \nSpotkanie jest bezpłatne.
URL:https://tepis.org.pl/event/podlaskiego-kola-pt-tepis-bialystok/
END:VEVENT
END:VCALENDAR