BEGIN:VCALENDAR
VERSION:2.0
PRODID:-//PT TEPIS - ECPv6.15.20//NONSGML v1.0//EN
CALSCALE:GREGORIAN
METHOD:PUBLISH
X-WR-CALNAME:PT TEPIS
X-ORIGINAL-URL:https://tepis.org.pl
X-WR-CALDESC:Wydarzenia dla PT TEPIS
REFRESH-INTERVAL;VALUE=DURATION:PT1H
X-Robots-Tag:noindex
X-PUBLISHED-TTL:PT1H
BEGIN:VTIMEZONE
TZID:Europe/Warsaw
BEGIN:DAYLIGHT
TZOFFSETFROM:+0100
TZOFFSETTO:+0200
TZNAME:CEST
DTSTART:20210328T010000
END:DAYLIGHT
BEGIN:STANDARD
TZOFFSETFROM:+0200
TZOFFSETTO:+0100
TZNAME:CET
DTSTART:20211031T010000
END:STANDARD
BEGIN:DAYLIGHT
TZOFFSETFROM:+0100
TZOFFSETTO:+0200
TZNAME:CEST
DTSTART:20220327T010000
END:DAYLIGHT
BEGIN:STANDARD
TZOFFSETFROM:+0200
TZOFFSETTO:+0100
TZNAME:CET
DTSTART:20221030T010000
END:STANDARD
BEGIN:DAYLIGHT
TZOFFSETFROM:+0100
TZOFFSETTO:+0200
TZNAME:CEST
DTSTART:20230326T010000
END:DAYLIGHT
BEGIN:STANDARD
TZOFFSETFROM:+0200
TZOFFSETTO:+0100
TZNAME:CET
DTSTART:20231029T010000
END:STANDARD
END:VTIMEZONE
BEGIN:VEVENT
DTSTART;TZID=Europe/Warsaw:20220612T100000
DTEND;TZID=Europe/Warsaw:20220612T173000
DTSTAMP:20260423T133110
CREATED:20220517T114540Z
LAST-MODIFIED:20220517T114540Z
UID:19347-1655028000-1655055000@tepis.org.pl
SUMMARY:Laboratorium “Verbum” w Warszawie 2/2
DESCRIPTION:LABORATORIUM DLA TŁUMACZY USTNYCH „VERBUM” \nw dniach: 11 i 12 czerwca 2022 r. (sobota i niedziela) w godz. 10.00-17.30 \nMiejsce: Warszawa\, ul. E. Plater 25 lok. 44 (siedziba PT TEPIS) \nszczegóły>>>Laboratorium_VERBUM_06.2022
URL:https://tepis.org.pl/event/laboratorium-verbum-w-warszawie-2-2/
END:VEVENT
END:VCALENDAR