BEGIN:VCALENDAR
VERSION:2.0
PRODID:-//PT TEPIS - ECPv6.15.20//NONSGML v1.0//EN
CALSCALE:GREGORIAN
METHOD:PUBLISH
X-WR-CALNAME:PT TEPIS
X-ORIGINAL-URL:https://tepis.org.pl
X-WR-CALDESC:Wydarzenia dla PT TEPIS
REFRESH-INTERVAL;VALUE=DURATION:PT1H
X-Robots-Tag:noindex
X-PUBLISHED-TTL:PT1H
BEGIN:VTIMEZONE
TZID:Europe/Warsaw
BEGIN:DAYLIGHT
TZOFFSETFROM:+0100
TZOFFSETTO:+0200
TZNAME:CEST
DTSTART:20210328T010000
END:DAYLIGHT
BEGIN:STANDARD
TZOFFSETFROM:+0200
TZOFFSETTO:+0100
TZNAME:CET
DTSTART:20211031T010000
END:STANDARD
BEGIN:DAYLIGHT
TZOFFSETFROM:+0100
TZOFFSETTO:+0200
TZNAME:CEST
DTSTART:20220327T010000
END:DAYLIGHT
BEGIN:STANDARD
TZOFFSETFROM:+0200
TZOFFSETTO:+0100
TZNAME:CET
DTSTART:20221030T010000
END:STANDARD
BEGIN:DAYLIGHT
TZOFFSETFROM:+0100
TZOFFSETTO:+0200
TZNAME:CEST
DTSTART:20230326T010000
END:DAYLIGHT
BEGIN:STANDARD
TZOFFSETFROM:+0200
TZOFFSETTO:+0100
TZNAME:CET
DTSTART:20231029T010000
END:STANDARD
END:VTIMEZONE
BEGIN:VEVENT
DTSTART;TZID=Europe/Warsaw:20220629T180000
DTEND;TZID=Europe/Warsaw:20220629T193000
DTSTAMP:20260423T120854
CREATED:20220613T122829Z
LAST-MODIFIED:20220613T122829Z
UID:19468-1656525600-1656531000@tepis.org.pl
SUMMARY:Webinarium dla anglistów "Rozbrajamy umowy" 2/6
DESCRIPTION:Cykl sześciu webinariów dla tłumaczy języka angielskiego pt.: \n„Między wiernością słowu a wiernością znaczeniu – rozbrajamy umowy” \nw dniach: 22 i 29 czerwca oraz 6\, 13\, 20 i 27 lipca 2022 r. (środy)\, w godz. 18.00 – 19.30 \nWebinarium_Umowy_EN_06.2022_.doc
URL:https://tepis.org.pl/event/webinarium-dla-anglistow-rozbrajamy-umowy-2-6/
END:VEVENT
END:VCALENDAR