BEGIN:VCALENDAR
VERSION:2.0
PRODID:-//PT TEPIS - ECPv6.15.20//NONSGML v1.0//EN
CALSCALE:GREGORIAN
METHOD:PUBLISH
X-ORIGINAL-URL:https://tepis.org.pl
X-WR-CALDESC:Wydarzenia dla PT TEPIS
REFRESH-INTERVAL;VALUE=DURATION:PT1H
X-Robots-Tag:noindex
X-PUBLISHED-TTL:PT1H
BEGIN:VTIMEZONE
TZID:Europe/Warsaw
BEGIN:DAYLIGHT
TZOFFSETFROM:+0100
TZOFFSETTO:+0200
TZNAME:CEST
DTSTART:20210328T010000
END:DAYLIGHT
BEGIN:STANDARD
TZOFFSETFROM:+0200
TZOFFSETTO:+0100
TZNAME:CET
DTSTART:20211031T010000
END:STANDARD
BEGIN:DAYLIGHT
TZOFFSETFROM:+0100
TZOFFSETTO:+0200
TZNAME:CEST
DTSTART:20220327T010000
END:DAYLIGHT
BEGIN:STANDARD
TZOFFSETFROM:+0200
TZOFFSETTO:+0100
TZNAME:CET
DTSTART:20221030T010000
END:STANDARD
BEGIN:DAYLIGHT
TZOFFSETFROM:+0100
TZOFFSETTO:+0200
TZNAME:CEST
DTSTART:20230326T010000
END:DAYLIGHT
BEGIN:STANDARD
TZOFFSETFROM:+0200
TZOFFSETTO:+0100
TZNAME:CET
DTSTART:20231029T010000
END:STANDARD
END:VTIMEZONE
BEGIN:VEVENT
DTSTART;TZID=Europe/Warsaw:20220919T170000
DTEND;TZID=Europe/Warsaw:20220919T183000
DTSTAMP:20260423T093504
CREATED:20220713T124812Z
LAST-MODIFIED:20220713T125444Z
UID:19765-1663606800-1663612200@tepis.org.pl
SUMMARY:Kurs z zakresu prawa\, moduł 2\, wykład- Prawo cywilne procesowe/ 2 edycja
DESCRIPTION:Webinarium „Kurs dla tłumaczy języków obcych z zakresu prawa 2022-2023” \n2 z 8 moduł podstawowy: \nWykład ogólny w języku polskim: temat Prawo cywilne procesowe \nWykłady połączone są z warsztatami językowymi\, które prowadzą wysokiej klasy specjaliści w dziedzinie stosowania wiedzy prawniczej do tłumaczeń specjalistycznych. \nProgram_kurs_prawa_2022_2023
URL:https://tepis.org.pl/event/kurs-z-zakresu-prawa-modul-2-wyklad-prawo-cywilne-procesowe-2-edycja/
END:VEVENT
BEGIN:VEVENT
DTSTART;TZID=Europe/Warsaw:20220919T184500
DTEND;TZID=Europe/Warsaw:20220919T201500
DTSTAMP:20260423T093504
CREATED:20220713T115128Z
LAST-MODIFIED:20220713T115128Z
UID:19741-1663613100-1663618500@tepis.org.pl
SUMMARY:Kurs z zakresu prawa\, moduł 2\, warsztaty- język angielski/ 2 edycja
DESCRIPTION:Webinarium „Kurs dla tłumaczy języków obcych z zakresu prawa 2022 -2023” \n2 moduł podstawowy: Warsztaty tematyczne w sekcjach językowych – sekcja angielska  \n(2 edycja)\nTemat II. PRAWO CYWILNE PROCESOWE \nProgram_kurs_prawa_2022_2023
URL:https://tepis.org.pl/event/kurs-z-zakresu-prawa-modul-2-warsztaty-jezyk-angielski-2-edycja/
END:VEVENT
END:VCALENDAR