BEGIN:VCALENDAR
VERSION:2.0
PRODID:-//PT TEPIS - ECPv6.15.20//NONSGML v1.0//EN
CALSCALE:GREGORIAN
METHOD:PUBLISH
X-WR-CALNAME:PT TEPIS
X-ORIGINAL-URL:https://tepis.org.pl
X-WR-CALDESC:Wydarzenia dla PT TEPIS
REFRESH-INTERVAL;VALUE=DURATION:PT1H
X-Robots-Tag:noindex
X-PUBLISHED-TTL:PT1H
BEGIN:VTIMEZONE
TZID:Europe/Warsaw
BEGIN:DAYLIGHT
TZOFFSETFROM:+0100
TZOFFSETTO:+0200
TZNAME:CEST
DTSTART:20210328T010000
END:DAYLIGHT
BEGIN:STANDARD
TZOFFSETFROM:+0200
TZOFFSETTO:+0100
TZNAME:CET
DTSTART:20211031T010000
END:STANDARD
BEGIN:DAYLIGHT
TZOFFSETFROM:+0100
TZOFFSETTO:+0200
TZNAME:CEST
DTSTART:20220327T010000
END:DAYLIGHT
BEGIN:STANDARD
TZOFFSETFROM:+0200
TZOFFSETTO:+0100
TZNAME:CET
DTSTART:20221030T010000
END:STANDARD
BEGIN:DAYLIGHT
TZOFFSETFROM:+0100
TZOFFSETTO:+0200
TZNAME:CEST
DTSTART:20230326T010000
END:DAYLIGHT
BEGIN:STANDARD
TZOFFSETFROM:+0200
TZOFFSETTO:+0100
TZNAME:CET
DTSTART:20231029T010000
END:STANDARD
END:VTIMEZONE
BEGIN:VEVENT
DTSTART;TZID=Europe/Warsaw:20220921T170000
DTEND;TZID=Europe/Warsaw:20220921T184500
DTSTAMP:20260423T093413
CREATED:20220713T115954Z
LAST-MODIFIED:20220713T115954Z
UID:19749-1663779600-1663785900@tepis.org.pl
SUMMARY:Kurs z zakresu prawa\, moduł 2\, warsztaty- język hiszpański/ 2 edycja
DESCRIPTION:Webinarium „Kurs dla tłumaczy języków obcych z zakresu prawa 2022 -2023” \n2 moduł podstawowy: Warsztaty tematyczne w sekcjach językowych – sekcja hiszpańska \n(2 edycja)\nTemat II. PRAWO CYWILNE PROCESOWE \nProgram_kurs_prawa_2022_2023
URL:https://tepis.org.pl/event/kurs-z-zakresu-prawa-modul-2-warsztaty-jezyk-hiszpanski-2-edycja/
END:VEVENT
BEGIN:VEVENT
DTSTART;TZID=Europe/Warsaw:20220921T184500
DTEND;TZID=Europe/Warsaw:20220921T201500
DTSTAMP:20260423T093413
CREATED:20220713T115520Z
LAST-MODIFIED:20220713T115520Z
UID:19745-1663785900-1663791300@tepis.org.pl
SUMMARY:Kurs z zakresu prawa\, moduł 2\, warsztaty- język niemiecki/ 2 edycja
DESCRIPTION:Webinarium „Kurs dla tłumaczy języków obcych z zakresu prawa 2022 -2023” \n2 moduł podstawowy: Warsztaty tematyczne w sekcjach językowych – sekcja niemiecka \n(2 edycja)\nTemat II. PRAWO CYWILNE PROCESOWE \nProgram_kurs_prawa_2022_2023
URL:https://tepis.org.pl/event/kurs-z-zakresu-prawa-modul-2-warsztaty-jezyk-niemiecki-2-edycja/
END:VEVENT
END:VCALENDAR