BEGIN:VCALENDAR
VERSION:2.0
PRODID:-//PT TEPIS - ECPv6.15.20//NONSGML v1.0//EN
CALSCALE:GREGORIAN
METHOD:PUBLISH
X-ORIGINAL-URL:https://tepis.org.pl
X-WR-CALDESC:Wydarzenia dla PT TEPIS
REFRESH-INTERVAL;VALUE=DURATION:PT1H
X-Robots-Tag:noindex
X-PUBLISHED-TTL:PT1H
BEGIN:VTIMEZONE
TZID:Europe/Warsaw
BEGIN:DAYLIGHT
TZOFFSETFROM:+0100
TZOFFSETTO:+0200
TZNAME:CEST
DTSTART:20210328T010000
END:DAYLIGHT
BEGIN:STANDARD
TZOFFSETFROM:+0200
TZOFFSETTO:+0100
TZNAME:CET
DTSTART:20211031T010000
END:STANDARD
BEGIN:DAYLIGHT
TZOFFSETFROM:+0100
TZOFFSETTO:+0200
TZNAME:CEST
DTSTART:20220327T010000
END:DAYLIGHT
BEGIN:STANDARD
TZOFFSETFROM:+0200
TZOFFSETTO:+0100
TZNAME:CET
DTSTART:20221030T010000
END:STANDARD
BEGIN:DAYLIGHT
TZOFFSETFROM:+0100
TZOFFSETTO:+0200
TZNAME:CEST
DTSTART:20230326T010000
END:DAYLIGHT
BEGIN:STANDARD
TZOFFSETFROM:+0200
TZOFFSETTO:+0100
TZNAME:CET
DTSTART:20231029T010000
END:STANDARD
END:VTIMEZONE
BEGIN:VEVENT
DTSTART;TZID=Europe/Warsaw:20220924T110000
DTEND;TZID=Europe/Warsaw:20220924T141500
DTSTAMP:20260423T093504
CREATED:20220712T103238Z
LAST-MODIFIED:20220712T103238Z
UID:19715-1664017200-1664028900@tepis.org.pl
SUMMARY:System wymiaru sprawiedliwości w Polsce i jego instytucje/I MODUŁ DODATKOWY/Kurs z zakresu prawa
DESCRIPTION:Kurs dla tłumaczy języków obcych z zakresu prawa 2022 -2023 \nI MODUŁ DODATKOWY \nTemat: SYSTEM WYMIARU SPRAWIEDLIWOŚCI W POLSCE I JEGO INSTYTUCJE\nŹródła prawa polskiego i wspólnotowego\, ich wzajemna korelacja \nImię i nazwisko wykładowcy: adw. Bartłomiej Mużyło \nProgram kursu dla tłumaczy z zakresu prawa (2022-2023) \n 
URL:https://tepis.org.pl/event/system-wymiaru-sprawiedliwosci-w-polsce-i-jego-instytucje-i-modul-dodatkowy-kurs-z-zakresu-prawa/
END:VEVENT
END:VCALENDAR