BEGIN:VCALENDAR
VERSION:2.0
PRODID:-//PT TEPIS - ECPv6.15.20//NONSGML v1.0//EN
CALSCALE:GREGORIAN
METHOD:PUBLISH
X-ORIGINAL-URL:https://tepis.org.pl
X-WR-CALDESC:Wydarzenia dla PT TEPIS
REFRESH-INTERVAL;VALUE=DURATION:PT1H
X-Robots-Tag:noindex
X-PUBLISHED-TTL:PT1H
BEGIN:VTIMEZONE
TZID:Europe/Warsaw
BEGIN:DAYLIGHT
TZOFFSETFROM:+0100
TZOFFSETTO:+0200
TZNAME:CEST
DTSTART:20210328T010000
END:DAYLIGHT
BEGIN:STANDARD
TZOFFSETFROM:+0200
TZOFFSETTO:+0100
TZNAME:CET
DTSTART:20211031T010000
END:STANDARD
BEGIN:DAYLIGHT
TZOFFSETFROM:+0100
TZOFFSETTO:+0200
TZNAME:CEST
DTSTART:20220327T010000
END:DAYLIGHT
BEGIN:STANDARD
TZOFFSETFROM:+0200
TZOFFSETTO:+0100
TZNAME:CET
DTSTART:20221030T010000
END:STANDARD
BEGIN:DAYLIGHT
TZOFFSETFROM:+0100
TZOFFSETTO:+0200
TZNAME:CEST
DTSTART:20230326T010000
END:DAYLIGHT
BEGIN:STANDARD
TZOFFSETFROM:+0200
TZOFFSETTO:+0100
TZNAME:CET
DTSTART:20231029T010000
END:STANDARD
END:VTIMEZONE
BEGIN:VEVENT
DTSTART;TZID=Europe/Warsaw:20220926T170000
DTEND;TZID=Europe/Warsaw:20220926T183000
DTSTAMP:20260423T081525
CREATED:20220216T122402Z
LAST-MODIFIED:20220713T125829Z
UID:18600-1664211600-1664217000@tepis.org.pl
SUMMARY:Kurs z zakresu prawa\, moduł 3\, wykład- Prawo rodzinne i opiekuńcze
DESCRIPTION:Webinarium „Kurs dla tłumaczy języków obcych z zakresu prawa 2022-2023” \n3 z 8 moduł podstawowy: \nWykład ogólny w języku polskim: Temat  III. PRAWO RODZINNE I OPIEKUŃCZE \nWykłady połączone są z warsztatami językowymi\, które prowadzą wysokiej klasy specjaliści w dziedzinie stosowania wiedzy prawniczej do tłumaczeń specjalistycznych. \nSzczegóły>>> Program_kurs_prawa_2022_2023
URL:https://tepis.org.pl/event/kurs-z-zakresu-prawa-modul-3-wyklad-prawo-rodzinne-i-opiekuncze/
END:VEVENT
BEGIN:VEVENT
DTSTART;TZID=Europe/Warsaw:20220926T184500
DTEND;TZID=Europe/Warsaw:20220926T201500
DTSTAMP:20260423T081525
CREATED:20220216T131734Z
LAST-MODIFIED:20220216T131734Z
UID:18611-1664217900-1664223300@tepis.org.pl
SUMMARY:Kurs z zakresu prawa\, moduł 3\, warsztaty- język angielski
DESCRIPTION:Webinarium „Kurs dla tłumaczy języków obcych z zakresu prawa 2022 -2023” \n3 moduł podstawowy: Warsztaty tematyczne w sekcjach językowych – sekcja angielska \nTemat III. PRAWO RODZINNE I OPIEKUŃCZE \nProgram_kurs_prawa_2022_2023
URL:https://tepis.org.pl/event/kurs-z-zakresu-prawa-modul-3-warsztaty-jezyk-angielski/
END:VEVENT
END:VCALENDAR