BEGIN:VCALENDAR
VERSION:2.0
PRODID:-//PT TEPIS - ECPv6.15.20//NONSGML v1.0//EN
CALSCALE:GREGORIAN
METHOD:PUBLISH
X-WR-CALNAME:PT TEPIS
X-ORIGINAL-URL:https://tepis.org.pl
X-WR-CALDESC:Wydarzenia dla PT TEPIS
REFRESH-INTERVAL;VALUE=DURATION:PT1H
X-Robots-Tag:noindex
X-PUBLISHED-TTL:PT1H
BEGIN:VTIMEZONE
TZID:Europe/Warsaw
BEGIN:DAYLIGHT
TZOFFSETFROM:+0100
TZOFFSETTO:+0200
TZNAME:CEST
DTSTART:20210328T010000
END:DAYLIGHT
BEGIN:STANDARD
TZOFFSETFROM:+0200
TZOFFSETTO:+0100
TZNAME:CET
DTSTART:20211031T010000
END:STANDARD
BEGIN:DAYLIGHT
TZOFFSETFROM:+0100
TZOFFSETTO:+0200
TZNAME:CEST
DTSTART:20220327T010000
END:DAYLIGHT
BEGIN:STANDARD
TZOFFSETFROM:+0200
TZOFFSETTO:+0100
TZNAME:CET
DTSTART:20221030T010000
END:STANDARD
BEGIN:DAYLIGHT
TZOFFSETFROM:+0100
TZOFFSETTO:+0200
TZNAME:CEST
DTSTART:20230326T010000
END:DAYLIGHT
BEGIN:STANDARD
TZOFFSETFROM:+0200
TZOFFSETTO:+0100
TZNAME:CET
DTSTART:20231029T010000
END:STANDARD
END:VTIMEZONE
BEGIN:VEVENT
DTSTART;TZID=Europe/Warsaw:20220929T170000
DTEND;TZID=Europe/Warsaw:20220929T183000
DTSTAMP:20260423T081357
CREATED:20220216T132228Z
LAST-MODIFIED:20220216T132252Z
UID:18615-1664470800-1664476200@tepis.org.pl
SUMMARY:Kurs z zakresu prawa\, moduł 3\, warsztaty- język niderlandzki
DESCRIPTION:Webinarium „Kurs dla tłumaczy języków obcych z zakresu prawa 2022 -2023” \n3 moduł podstawowy: Warsztaty tematyczne w sekcjach językowych – sekcja niderlandzka \nTemat III. PRAWO RODZINNE I OPIEKUŃCZE \nProgram_kurs_prawa_2022_2023
URL:https://tepis.org.pl/event/kurs-z-zakresu-prawa-modul-3-warsztaty-jezyk-niderlandzki/
END:VEVENT
BEGIN:VEVENT
DTSTART;TZID=Europe/Warsaw:20220929T170000
DTEND;TZID=Europe/Warsaw:20220929T183000
DTSTAMP:20260423T081357
CREATED:20220216T145754Z
LAST-MODIFIED:20220216T145754Z
UID:18620-1664470800-1664476200@tepis.org.pl
SUMMARY:Kurs z zakresu prawa\, moduł 3\, warsztaty- język rosyjski
DESCRIPTION:Webinarium „Kurs dla tłumaczy języków obcych z zakresu prawa 2022 -2023” \n3 moduł podstawowy: Warsztaty tematyczne w sekcjach językowych – sekcja rosyjska \nTemat III. PRAWO RODZINNE I OPIEKUŃCZE \nProgram_kurs_prawa_2022_2023
URL:https://tepis.org.pl/event/kurs-z-zakresu-prawa-modul-3-warsztaty-jezyk-rosyjski/
END:VEVENT
BEGIN:VEVENT
DTSTART;TZID=Europe/Warsaw:20220929T180000
DTEND;TZID=Europe/Warsaw:20220929T200000
DTSTAMP:20260423T081357
CREATED:20220920T135353Z
LAST-MODIFIED:20220920T135353Z
UID:20607-1664474400-1664481600@tepis.org.pl
SUMMARY:Spotkanie hieronimkowe Wielkopolskiego Koła PT TEPIS
DESCRIPTION:Wielkopolskie Koło PT TEPIS zaprasza na spotkanie hieronimkowe\, które odbędzie się w czwartek\, 29.09.2022\, o godz. 18:00 w kawiarni Ptasie Radio\, ul. Kościuszki 74 w Poznaniu. \nOsoby zainteresowane udziałem prosimy o przesłanie zgłoszenia na adres: wielkopolskie@tepis.org.pl do dnia 26.09.2022.
URL:https://tepis.org.pl/event/spotkanie-hieronimkowe-wielkopolskiego-kola-pt-tepis/
END:VEVENT
BEGIN:VEVENT
DTSTART;TZID=Europe/Warsaw:20220929T180000
DTEND;TZID=Europe/Warsaw:20220929T203000
DTSTAMP:20260423T081357
CREATED:20220919T123035Z
LAST-MODIFIED:20220919T123035Z
UID:20556-1664474400-1664483400@tepis.org.pl
SUMMARY:Spotkanie hieronimkowe Górnośląskiego Koła PT TEPIS
DESCRIPTION:Górnośląskie Koło PT TEPIS zaprasza na spotkanie hieronimkowe w czwartek\, 29 września br. o godz. 18 w La Firinda Tapas Bar na ul. Dyrekcyjnej 9 w Katowicach. \nUprzejmie prosimy o zgłaszanie swojego uczestnictwa mailem na adres: gonoslaskie@tepis.org.pl do dnia 26.09.2022 r.
URL:https://tepis.org.pl/event/spotkanie-hieronimkowe-gornoslaskiego-kola-pt-tepis/
END:VEVENT
BEGIN:VEVENT
DTSTART;TZID=Europe/Warsaw:20220929T180000
DTEND;TZID=Europe/Warsaw:20220929T203000
DTSTAMP:20260423T081357
CREATED:20220923T082902Z
LAST-MODIFIED:20220923T082902Z
UID:20713-1664474400-1664483400@tepis.org.pl
SUMMARY:Spotkanie hieronimkowe Małopolskiego Koła PT TEPIS
DESCRIPTION:Małopolskie Koło PT TEPIS zaprasza na spotkanie hieronimkowe\, które odbędzie się w czwartek\, 29.09.2022\, o godz. 18:00 restauracja Smak Ukraiński  ul. Grodzka 21 (Kraków). \nOsoby zainteresowane udziałem prosimy o przesłanie potwierdzenie swojej obecności  mailem na adres sekretarza koła: Małgorzata Lipska: info@mlipska.com do dnia 26.09.2022 r.
URL:https://tepis.org.pl/event/spotkanie-hieronimkowe-malopolskiego-kola-pt-tepis/
END:VEVENT
BEGIN:VEVENT
DTSTART;TZID=Europe/Warsaw:20220929T184500
DTEND;TZID=Europe/Warsaw:20220929T201500
DTSTAMP:20260423T081357
CREATED:20220216T145953Z
LAST-MODIFIED:20220216T145953Z
UID:18622-1664477100-1664482500@tepis.org.pl
SUMMARY:Kurs z zakresu prawa\, moduł 3\, warsztaty- język ukraiński
DESCRIPTION:Webinarium „Kurs dla tłumaczy języków obcych z zakresu prawa 2022 -2023” \n3 moduł podstawowy: Warsztaty tematyczne w sekcjach językowych – sekcja ukraińska \nTemat III. PRAWO RODZINNE I OPIEKUŃCZE \nProgram_kurs_prawa_2022_2023
URL:https://tepis.org.pl/event/kurs-z-zakresu-prawa-modul-3-warsztaty-jezyk-ukrainski/
END:VEVENT
END:VCALENDAR