BEGIN:VCALENDAR
VERSION:2.0
PRODID:-//PT TEPIS - ECPv6.15.20//NONSGML v1.0//EN
CALSCALE:GREGORIAN
METHOD:PUBLISH
X-WR-CALNAME:PT TEPIS
X-ORIGINAL-URL:https://tepis.org.pl
X-WR-CALDESC:Wydarzenia dla PT TEPIS
REFRESH-INTERVAL;VALUE=DURATION:PT1H
X-Robots-Tag:noindex
X-PUBLISHED-TTL:PT1H
BEGIN:VTIMEZONE
TZID:Europe/Warsaw
BEGIN:DAYLIGHT
TZOFFSETFROM:+0100
TZOFFSETTO:+0200
TZNAME:CEST
DTSTART:20210328T010000
END:DAYLIGHT
BEGIN:STANDARD
TZOFFSETFROM:+0200
TZOFFSETTO:+0100
TZNAME:CET
DTSTART:20211031T010000
END:STANDARD
BEGIN:DAYLIGHT
TZOFFSETFROM:+0100
TZOFFSETTO:+0200
TZNAME:CEST
DTSTART:20220327T010000
END:DAYLIGHT
BEGIN:STANDARD
TZOFFSETFROM:+0200
TZOFFSETTO:+0100
TZNAME:CET
DTSTART:20221030T010000
END:STANDARD
BEGIN:DAYLIGHT
TZOFFSETFROM:+0100
TZOFFSETTO:+0200
TZNAME:CEST
DTSTART:20230326T010000
END:DAYLIGHT
BEGIN:STANDARD
TZOFFSETFROM:+0200
TZOFFSETTO:+0100
TZNAME:CET
DTSTART:20231029T010000
END:STANDARD
END:VTIMEZONE
BEGIN:VEVENT
DTSTART;TZID=Europe/Warsaw:20220930T170000
DTEND;TZID=Europe/Warsaw:20220930T183000
DTSTAMP:20260423T081816
CREATED:20220216T153218Z
LAST-MODIFIED:20220216T153439Z
UID:18626-1664557200-1664562600@tepis.org.pl
SUMMARY:Kurs z zakresu prawa\, moduł 3\, warsztaty- język chiński
DESCRIPTION:Webinarium „Kurs dla tłumaczy języków obcych z zakresu prawa 2022 -2023” \n3 moduł podstawowy: Warsztaty tematyczne w sekcjach językowych – sekcja azjatycka – język chiński \nTemat III. PRAWO RODZINNE I OPIEKUŃCZE \nProgram_kurs_prawa_2022_2023
URL:https://tepis.org.pl/event/kurs-z-zakresu-prawa-modul-3-warsztaty-jezyk-chinski/
END:VEVENT
BEGIN:VEVENT
DTSTART;TZID=Europe/Warsaw:20220930T184500
DTEND;TZID=Europe/Warsaw:20220930T201500
DTSTAMP:20260423T081816
CREATED:20220216T122642Z
LAST-MODIFIED:20220216T130604Z
UID:18602-1664563500-1664568900@tepis.org.pl
SUMMARY:Kurs z zakresu prawa\, moduł 3\, warsztaty- język czeski
DESCRIPTION:Webinarium „Kurs dla tłumaczy języków obcych z zakresu prawa 2022 -2023” \n3 moduł podstawowy: Warsztaty tematyczne w sekcjach językowych – sekcja czeska \nTemat III. PRAWO RODZINNE I OPIEKUŃCZE \nProgram_kurs_prawa_2022_2023
URL:https://tepis.org.pl/event/kurs-z-zakresu-prawa-modul-3-warsztaty-jezyk-czeski/
END:VEVENT
END:VCALENDAR