BEGIN:VCALENDAR
VERSION:2.0
PRODID:-//PT TEPIS - ECPv6.15.20//NONSGML v1.0//EN
CALSCALE:GREGORIAN
METHOD:PUBLISH
X-ORIGINAL-URL:https://tepis.org.pl
X-WR-CALDESC:Wydarzenia dla PT TEPIS
REFRESH-INTERVAL;VALUE=DURATION:PT1H
X-Robots-Tag:noindex
X-PUBLISHED-TTL:PT1H
BEGIN:VTIMEZONE
TZID:Europe/Warsaw
BEGIN:DAYLIGHT
TZOFFSETFROM:+0100
TZOFFSETTO:+0200
TZNAME:CEST
DTSTART:20210328T010000
END:DAYLIGHT
BEGIN:STANDARD
TZOFFSETFROM:+0200
TZOFFSETTO:+0100
TZNAME:CET
DTSTART:20211031T010000
END:STANDARD
BEGIN:DAYLIGHT
TZOFFSETFROM:+0100
TZOFFSETTO:+0200
TZNAME:CEST
DTSTART:20220327T010000
END:DAYLIGHT
BEGIN:STANDARD
TZOFFSETFROM:+0200
TZOFFSETTO:+0100
TZNAME:CET
DTSTART:20221030T010000
END:STANDARD
BEGIN:DAYLIGHT
TZOFFSETFROM:+0100
TZOFFSETTO:+0200
TZNAME:CEST
DTSTART:20230326T010000
END:DAYLIGHT
BEGIN:STANDARD
TZOFFSETFROM:+0200
TZOFFSETTO:+0100
TZNAME:CET
DTSTART:20231029T010000
END:STANDARD
END:VTIMEZONE
BEGIN:VEVENT
DTSTART;TZID=Europe/Warsaw:20221006T170000
DTEND;TZID=Europe/Warsaw:20221006T200000
DTSTAMP:20260423T081033
CREATED:20220923T083316Z
LAST-MODIFIED:20220923T083316Z
UID:20715-1665075600-1665086400@tepis.org.pl
SUMMARY:Spotkanie hieronimkowe Podlaskiego Koła PT TEPIS
DESCRIPTION:Podlaskie Koło PT TEPIS zaprasza na spotkanie hieronimkowe\, które odbędzie się w czwartek\, 6.10.2022 r.\, godz. 17.00. Miejsce: Maison du Café\, ul. Jana Kilińskiego 10\, Białystok. \nOsoby zainteresowane udziałem prosimy o przesłanie zgłoszenia na adres: podlaskie@tepis.org.pl do dnia 30.09.2022 r.
URL:https://tepis.org.pl/event/spotkanie-hieronimkowe-podlaskiego-kola-pt-tepis/
END:VEVENT
END:VCALENDAR