BEGIN:VCALENDAR
VERSION:2.0
PRODID:-//PT TEPIS - ECPv6.15.20//NONSGML v1.0//EN
CALSCALE:GREGORIAN
METHOD:PUBLISH
X-ORIGINAL-URL:https://tepis.org.pl
X-WR-CALDESC:Wydarzenia dla PT TEPIS
REFRESH-INTERVAL;VALUE=DURATION:PT1H
X-Robots-Tag:noindex
X-PUBLISHED-TTL:PT1H
BEGIN:VTIMEZONE
TZID:Europe/Warsaw
BEGIN:DAYLIGHT
TZOFFSETFROM:+0100
TZOFFSETTO:+0200
TZNAME:CEST
DTSTART:20210328T010000
END:DAYLIGHT
BEGIN:STANDARD
TZOFFSETFROM:+0200
TZOFFSETTO:+0100
TZNAME:CET
DTSTART:20211031T010000
END:STANDARD
BEGIN:DAYLIGHT
TZOFFSETFROM:+0100
TZOFFSETTO:+0200
TZNAME:CEST
DTSTART:20220327T010000
END:DAYLIGHT
BEGIN:STANDARD
TZOFFSETFROM:+0200
TZOFFSETTO:+0100
TZNAME:CET
DTSTART:20221030T010000
END:STANDARD
BEGIN:DAYLIGHT
TZOFFSETFROM:+0100
TZOFFSETTO:+0200
TZNAME:CEST
DTSTART:20230326T010000
END:DAYLIGHT
BEGIN:STANDARD
TZOFFSETFROM:+0200
TZOFFSETTO:+0100
TZNAME:CET
DTSTART:20231029T010000
END:STANDARD
END:VTIMEZONE
BEGIN:VEVENT
DTSTART;TZID=Europe/Warsaw:20221117T170000
DTEND;TZID=Europe/Warsaw:20221117T203000
DTSTAMP:20260423T065505
CREATED:20220919T122532Z
LAST-MODIFIED:20221109T102903Z
UID:20554-1668704400-1668717000@tepis.org.pl
SUMMARY:Spotkanie hieronimkowe Zachodniopomorskiego Koła TEPIS
DESCRIPTION:Zarząd Zachodniopomorskiego Koła TEPIS zaprasza członków i sympatyków TEPISu na spóźnione spotkanie hieronimkowe w dniu 17 listopada 2022 r. o godz. 17.00 – 20.30 w kawiarni Corona Coffee przy ul. Kaszubskiej 67\, Szczecin (przy centrum handlowym Galeria Kaskada). \nProsimy o potwierdzenie chęci przybycia do dnia 14 listopada 2022 r. na adres e-mail: zachodniopomorskie@tepis.org.pl \nSpotkanie będzie połączone z dyskusją na temat bieżącej i przyszłej działalności Koła\, szkoleń stacjonarnych i spraw organizacyjnych oraz aktualnej sytuacji na rynku tłumaczeń. Pomysły i sugestie bardzo mile widziane ???? \nDo zobaczenia w Szczecinie
URL:https://tepis.org.pl/event/spotkanie-hieronimkowe-zachodniopomorskiego-kola-tepis/
END:VEVENT
END:VCALENDAR