BEGIN:VCALENDAR
VERSION:2.0
PRODID:-//PT TEPIS - ECPv6.15.20//NONSGML v1.0//EN
CALSCALE:GREGORIAN
METHOD:PUBLISH
X-ORIGINAL-URL:https://tepis.org.pl
X-WR-CALDESC:Wydarzenia dla PT TEPIS
REFRESH-INTERVAL;VALUE=DURATION:PT1H
X-Robots-Tag:noindex
X-PUBLISHED-TTL:PT1H
BEGIN:VTIMEZONE
TZID:Europe/Warsaw
BEGIN:DAYLIGHT
TZOFFSETFROM:+0100
TZOFFSETTO:+0200
TZNAME:CEST
DTSTART:20210328T010000
END:DAYLIGHT
BEGIN:STANDARD
TZOFFSETFROM:+0200
TZOFFSETTO:+0100
TZNAME:CET
DTSTART:20211031T010000
END:STANDARD
BEGIN:DAYLIGHT
TZOFFSETFROM:+0100
TZOFFSETTO:+0200
TZNAME:CEST
DTSTART:20220327T010000
END:DAYLIGHT
BEGIN:STANDARD
TZOFFSETFROM:+0200
TZOFFSETTO:+0100
TZNAME:CET
DTSTART:20221030T010000
END:STANDARD
BEGIN:DAYLIGHT
TZOFFSETFROM:+0100
TZOFFSETTO:+0200
TZNAME:CEST
DTSTART:20230326T010000
END:DAYLIGHT
BEGIN:STANDARD
TZOFFSETFROM:+0200
TZOFFSETTO:+0100
TZNAME:CET
DTSTART:20231029T010000
END:STANDARD
END:VTIMEZONE
BEGIN:VEVENT
DTSTART;TZID=Europe/Warsaw:20221120T100000
DTEND;TZID=Europe/Warsaw:20221120T170000
DTSTAMP:20260423T065503
CREATED:20221024T103941Z
LAST-MODIFIED:20221107T133204Z
UID:21690-1668938400-1668963600@tepis.org.pl
SUMMARY:Ślady kryminalistyczne – dowody zbrodni\, POZNAŃ
DESCRIPTION:WIELKOPOLSKIE KOŁO POLSKIEGO TOWARZYSTWA TŁUMACZY PRZYSIĘGŁYCH I SPECJALISTYCZNYCH TEPIS\n zaprasza na warsztaty dla tłumaczy wszystkich języków: \nŚlady kryminalistyczne – dowody zbrodni\nMiejsce: Centrum Szkoleniowe Omega (ul. Dąbrowskiego 79 A/11 piętro\, Poznań) \nSzczegóły: Szkolenie_Ślady kryminalistyczne_Poznań.doc \nOstateczny termin zgłoszeń: 09.11.2022 lub do wyczerpania miejsc \nZakup uczestnictwa w e-sklepie TEPIS: https://tepis.org.pl/sklep/
URL:https://tepis.org.pl/event/slady-kryminalistyczne-dowody-zbrodni-poznan/
CATEGORIES:2022 Akcje szkoleniowe PT TEPIS
END:VEVENT
END:VCALENDAR