BEGIN:VCALENDAR
VERSION:2.0
PRODID:-//PT TEPIS - ECPv6.15.20//NONSGML v1.0//EN
CALSCALE:GREGORIAN
METHOD:PUBLISH
X-ORIGINAL-URL:https://tepis.org.pl
X-WR-CALDESC:Wydarzenia dla PT TEPIS
REFRESH-INTERVAL;VALUE=DURATION:PT1H
X-Robots-Tag:noindex
X-PUBLISHED-TTL:PT1H
BEGIN:VTIMEZONE
TZID:Europe/Warsaw
BEGIN:DAYLIGHT
TZOFFSETFROM:+0100
TZOFFSETTO:+0200
TZNAME:CEST
DTSTART:20210328T010000
END:DAYLIGHT
BEGIN:STANDARD
TZOFFSETFROM:+0200
TZOFFSETTO:+0100
TZNAME:CET
DTSTART:20211031T010000
END:STANDARD
BEGIN:DAYLIGHT
TZOFFSETFROM:+0100
TZOFFSETTO:+0200
TZNAME:CEST
DTSTART:20220327T010000
END:DAYLIGHT
BEGIN:STANDARD
TZOFFSETFROM:+0200
TZOFFSETTO:+0100
TZNAME:CET
DTSTART:20221030T010000
END:STANDARD
BEGIN:DAYLIGHT
TZOFFSETFROM:+0100
TZOFFSETTO:+0200
TZNAME:CEST
DTSTART:20230326T010000
END:DAYLIGHT
BEGIN:STANDARD
TZOFFSETFROM:+0200
TZOFFSETTO:+0100
TZNAME:CET
DTSTART:20231029T010000
END:STANDARD
END:VTIMEZONE
BEGIN:VEVENT
DTSTART;TZID=Europe/Warsaw:20221129T170000
DTEND;TZID=Europe/Warsaw:20221129T183000
DTSTAMP:20260423T054404
CREATED:20220630T130840Z
LAST-MODIFIED:20220630T130840Z
UID:19617-1669741200-1669746600@tepis.org.pl
SUMMARY:Kurs z zakresu prawa\, moduł 4\, warsztaty- język francuski
DESCRIPTION:Webinarium „Kurs dla tłumaczy języków obcych z zakresu prawa 2022 -2023” \n4 moduł podstawowy: Warsztaty tematyczne w sekcjach językowych – sekcja francuska \nTemat IV. Prawo karne\, karnoskarbowe i wykroczeń \nPROGRAM-SZKOLENIA-KURS-PRAWA-2022-04-30
URL:https://tepis.org.pl/event/kurs-z-zakresu-prawa-modul-4-warsztaty-jezyk-francuski/
END:VEVENT
BEGIN:VEVENT
DTSTART;TZID=Europe/Warsaw:20221129T184500
DTEND;TZID=Europe/Warsaw:20221129T201500
DTSTAMP:20260423T054404
CREATED:20220630T131436Z
LAST-MODIFIED:20220630T131436Z
UID:19622-1669747500-1669752900@tepis.org.pl
SUMMARY:Kurs z zakresu prawa\, moduł 4\, warsztaty- język włoski
DESCRIPTION:Webinarium „Kurs dla tłumaczy języków obcych z zakresu prawa 2022 -2023” \n4 moduł podstawowy: Warsztaty tematyczne w sekcjach językowych – sekcja włoska \nTemat IV. Prawo karne\, karnoskarbowe i wykroczeń \nPROGRAM-SZKOLENIA-KURS-PRAWA-2022-04-30
URL:https://tepis.org.pl/event/kurs-z-zakresu-prawa-modul-4-warsztaty-jezyk-wloski/
END:VEVENT
BEGIN:VEVENT
DTSTART;TZID=Europe/Warsaw:20221129T190000
DTEND;TZID=Europe/Warsaw:20221129T203000
DTSTAMP:20260423T054404
CREATED:20220630T133121Z
LAST-MODIFIED:20221031T110841Z
UID:19632-1669748400-1669753800@tepis.org.pl
SUMMARY:Kurs z zakresu prawa\, moduł 4\, warsztaty- język czeski
DESCRIPTION:Webinarium „Kurs dla tłumaczy języków obcych z zakresu prawa 2022 -2023” \n4 moduł podstawowy: Warsztaty tematyczne w sekcjach językowych – sekcja czeska \nTemat IV. Prawo karne\, karnoskarbowe i wykroczeń \nPROGRAM-SZKOLENIA-KURS-PRAWA-2022-04-30 \nUwaga! Zmiana terminu warsztatów z 2.12.br. na 29.11. godz. 19.00-20.30
URL:https://tepis.org.pl/event/kurs-z-zakresu-prawa-modul-4-warsztaty-jezyk-czeski/
END:VEVENT
END:VCALENDAR