BEGIN:VCALENDAR
VERSION:2.0
PRODID:-//PT TEPIS - ECPv6.15.20//NONSGML v1.0//EN
CALSCALE:GREGORIAN
METHOD:PUBLISH
X-ORIGINAL-URL:https://tepis.org.pl
X-WR-CALDESC:Wydarzenia dla PT TEPIS
REFRESH-INTERVAL;VALUE=DURATION:PT1H
X-Robots-Tag:noindex
X-PUBLISHED-TTL:PT1H
BEGIN:VTIMEZONE
TZID:Europe/Warsaw
BEGIN:DAYLIGHT
TZOFFSETFROM:+0100
TZOFFSETTO:+0200
TZNAME:CEST
DTSTART:20210328T010000
END:DAYLIGHT
BEGIN:STANDARD
TZOFFSETFROM:+0200
TZOFFSETTO:+0100
TZNAME:CET
DTSTART:20211031T010000
END:STANDARD
BEGIN:DAYLIGHT
TZOFFSETFROM:+0100
TZOFFSETTO:+0200
TZNAME:CEST
DTSTART:20220327T010000
END:DAYLIGHT
BEGIN:STANDARD
TZOFFSETFROM:+0200
TZOFFSETTO:+0100
TZNAME:CET
DTSTART:20221030T010000
END:STANDARD
BEGIN:DAYLIGHT
TZOFFSETFROM:+0100
TZOFFSETTO:+0200
TZNAME:CEST
DTSTART:20230326T010000
END:DAYLIGHT
BEGIN:STANDARD
TZOFFSETFROM:+0200
TZOFFSETTO:+0100
TZNAME:CET
DTSTART:20231029T010000
END:STANDARD
END:VTIMEZONE
BEGIN:VEVENT
DTSTART;TZID=Europe/Warsaw:20221130T170000
DTEND;TZID=Europe/Warsaw:20221130T183000
DTSTAMP:20260423T054403
CREATED:20220630T132439Z
LAST-MODIFIED:20220630T132439Z
UID:19626-1669827600-1669833000@tepis.org.pl
SUMMARY:Kurs z zakresu prawa\, moduł 4\, warsztaty- język hiszpański
DESCRIPTION:Webinarium „Kurs dla tłumaczy języków obcych z zakresu prawa 2022 -2023” \n4 moduł podstawowy: Warsztaty tematyczne w sekcjach językowych – sekcja hiszpańska \nTemat IV. Prawo karne\, karnoskarbowe i wykroczeń \nPROGRAM-SZKOLENIA-KURS-PRAWA-2022-04-30
URL:https://tepis.org.pl/event/kurs-z-zakresu-prawa-modul-4-warsztaty-jezyk-hiszpanski/
END:VEVENT
BEGIN:VEVENT
DTSTART;TZID=Europe/Warsaw:20221130T184500
DTEND;TZID=Europe/Warsaw:20221130T201500
DTSTAMP:20260423T054403
CREATED:20220630T131831Z
LAST-MODIFIED:20220630T132050Z
UID:19624-1669833900-1669839300@tepis.org.pl
SUMMARY:Kurs z zakresu prawa\, moduł 4\, warsztaty- język niemiecki
DESCRIPTION:Webinarium „Kurs dla tłumaczy języków obcych z zakresu prawa 2022 -2023” \n4 moduł podstawowy: Warsztaty tematyczne w sekcjach językowych – sekcja niemiecka \nTemat IV. Prawo karne\, karnoskarbowe i wykroczeń \nPROGRAM-SZKOLENIA-KURS-PRAWA-2022-04-30
URL:https://tepis.org.pl/event/kurs-z-zakresu-prawa-modul-4-warsztaty-jezyk-niemiecki/
END:VEVENT
END:VCALENDAR