BEGIN:VCALENDAR
VERSION:2.0
PRODID:-//PT TEPIS - ECPv6.15.20//NONSGML v1.0//EN
CALSCALE:GREGORIAN
METHOD:PUBLISH
X-WR-CALNAME:PT TEPIS
X-ORIGINAL-URL:https://tepis.org.pl
X-WR-CALDESC:Wydarzenia dla PT TEPIS
REFRESH-INTERVAL;VALUE=DURATION:PT1H
X-Robots-Tag:noindex
X-PUBLISHED-TTL:PT1H
BEGIN:VTIMEZONE
TZID:Europe/Warsaw
BEGIN:DAYLIGHT
TZOFFSETFROM:+0100
TZOFFSETTO:+0200
TZNAME:CEST
DTSTART:20220327T010000
END:DAYLIGHT
BEGIN:STANDARD
TZOFFSETFROM:+0200
TZOFFSETTO:+0100
TZNAME:CET
DTSTART:20221030T010000
END:STANDARD
BEGIN:DAYLIGHT
TZOFFSETFROM:+0100
TZOFFSETTO:+0200
TZNAME:CEST
DTSTART:20230326T010000
END:DAYLIGHT
BEGIN:STANDARD
TZOFFSETFROM:+0200
TZOFFSETTO:+0100
TZNAME:CET
DTSTART:20231029T010000
END:STANDARD
BEGIN:DAYLIGHT
TZOFFSETFROM:+0100
TZOFFSETTO:+0200
TZNAME:CEST
DTSTART:20240331T010000
END:DAYLIGHT
BEGIN:STANDARD
TZOFFSETFROM:+0200
TZOFFSETTO:+0100
TZNAME:CET
DTSTART:20241027T010000
END:STANDARD
END:VTIMEZONE
BEGIN:VEVENT
DTSTART;TZID=Europe/Warsaw:20230120T100000
DTEND;TZID=Europe/Warsaw:20230120T150000
DTSTAMP:20260423T042648
CREATED:20221222T160313Z
LAST-MODIFIED:20221222T161351Z
UID:22882-1674208800-1674226800@tepis.org.pl
SUMMARY:Szkolenie “Czesko-polska terminologia księgowa i podatkowa” w Ostrawie
DESCRIPTION:KOLEGIUM DOSKONALENIA ZAWODOWEGO POLSKIEGO TOWARZYSTWA TŁUMACZY PRZYSIĘGŁYCH I SPECJALISTYCZNYCH TEPIS\n zaprasza tłumaczy języka czeskiego na: \n Szkolenie z zakresu czesko-polskiej terminologii księgowej i podatkowej w Ostrawie\nSzczegóły:Szkolenie_CZ-PL_Ostrawa_20.01.2023.doc \nzapisy: https://tepis.org.pl/sklep/
URL:https://tepis.org.pl/event/szkolenie-czesko-polska-terminologia-ksiegowa-i-podatkowa-w-ostrawie/
END:VEVENT
END:VCALENDAR