BEGIN:VCALENDAR
VERSION:2.0
PRODID:-//PT TEPIS - ECPv6.15.20//NONSGML v1.0//EN
CALSCALE:GREGORIAN
METHOD:PUBLISH
X-ORIGINAL-URL:https://tepis.org.pl
X-WR-CALDESC:Wydarzenia dla PT TEPIS
REFRESH-INTERVAL;VALUE=DURATION:PT1H
X-Robots-Tag:noindex
X-PUBLISHED-TTL:PT1H
BEGIN:VTIMEZONE
TZID:Europe/Warsaw
BEGIN:DAYLIGHT
TZOFFSETFROM:+0100
TZOFFSETTO:+0200
TZNAME:CEST
DTSTART:20220327T010000
END:DAYLIGHT
BEGIN:STANDARD
TZOFFSETFROM:+0200
TZOFFSETTO:+0100
TZNAME:CET
DTSTART:20221030T010000
END:STANDARD
BEGIN:DAYLIGHT
TZOFFSETFROM:+0100
TZOFFSETTO:+0200
TZNAME:CEST
DTSTART:20230326T010000
END:DAYLIGHT
BEGIN:STANDARD
TZOFFSETFROM:+0200
TZOFFSETTO:+0100
TZNAME:CET
DTSTART:20231029T010000
END:STANDARD
BEGIN:DAYLIGHT
TZOFFSETFROM:+0100
TZOFFSETTO:+0200
TZNAME:CEST
DTSTART:20240331T010000
END:DAYLIGHT
BEGIN:STANDARD
TZOFFSETFROM:+0200
TZOFFSETTO:+0100
TZNAME:CET
DTSTART:20241027T010000
END:STANDARD
END:VTIMEZONE
BEGIN:VEVENT
DTSTART;TZID=Europe/Warsaw:20230204T092000
DTEND;TZID=Europe/Warsaw:20230204T144500
DTSTAMP:20260423T032152
CREATED:20230105T090809Z
LAST-MODIFIED:20230105T090809Z
UID:23098-1675502400-1675521900@tepis.org.pl
SUMMARY:Investigaciones médicas\, policiales y fiscales-webinarium 2/2
DESCRIPTION:Webinarium dla tłumaczy języka hiszpańskiego \nInvestigaciones médicas\, policiales y fiscales – czyli wspólny mianownik badań medycznych\nW dniach 21.01 i 04.02 2023 r. (dwie soboty) w godzinach:9.20 – 14.45  \n Webinaria odbywają się na platformie Zoom. \nOpis szkolenia \nZakup uczestnictwa w e-sklepie TEPIS: https://tepis.org.pl/sklep/
URL:https://tepis.org.pl/event/investigaciones-medicas-policiales-y-fiscales-webinarium-2-2/
CATEGORIES:2022 Akcje szkoleniowe PT TEPIS
END:VEVENT
END:VCALENDAR