BEGIN:VCALENDAR
VERSION:2.0
PRODID:-//PT TEPIS - ECPv6.15.20//NONSGML v1.0//EN
CALSCALE:GREGORIAN
METHOD:PUBLISH
X-ORIGINAL-URL:https://tepis.org.pl
X-WR-CALDESC:Wydarzenia dla PT TEPIS
REFRESH-INTERVAL;VALUE=DURATION:PT1H
X-Robots-Tag:noindex
X-PUBLISHED-TTL:PT1H
BEGIN:VTIMEZONE
TZID:Europe/Warsaw
BEGIN:DAYLIGHT
TZOFFSETFROM:+0100
TZOFFSETTO:+0200
TZNAME:CEST
DTSTART:20220327T010000
END:DAYLIGHT
BEGIN:STANDARD
TZOFFSETFROM:+0200
TZOFFSETTO:+0100
TZNAME:CET
DTSTART:20221030T010000
END:STANDARD
BEGIN:DAYLIGHT
TZOFFSETFROM:+0100
TZOFFSETTO:+0200
TZNAME:CEST
DTSTART:20230326T010000
END:DAYLIGHT
BEGIN:STANDARD
TZOFFSETFROM:+0200
TZOFFSETTO:+0100
TZNAME:CET
DTSTART:20231029T010000
END:STANDARD
BEGIN:DAYLIGHT
TZOFFSETFROM:+0100
TZOFFSETTO:+0200
TZNAME:CEST
DTSTART:20240331T010000
END:DAYLIGHT
BEGIN:STANDARD
TZOFFSETFROM:+0200
TZOFFSETTO:+0100
TZNAME:CET
DTSTART:20241027T010000
END:STANDARD
END:VTIMEZONE
BEGIN:VEVENT
DTSTART;TZID=Europe/Warsaw:20230223T163000
DTEND;TZID=Europe/Warsaw:20230223T180000
DTSTAMP:20260423T032212
CREATED:20230127T090127Z
LAST-MODIFIED:20230127T090127Z
UID:24074-1677169800-1677175200@tepis.org.pl
SUMMARY:Spotkanie noworoczne w Rzeszowie
DESCRIPTION:Serdecznie zapraszamy wszystkich członków Podlaskiego Koła TEPIS na lunch noworoczny\, który odbędzie się 23.02.2023r. o godzinie 16:30 w Białymstoku. \nProsimy o przesyłanie potwierdzeń uczestnictwa w spotkaniu noworocznym na adres: podlaskie@tepis.org.pl do środy\, 1 lutego br.
URL:https://tepis.org.pl/event/spotkanie-noworoczne-w-rzeszowie/
END:VEVENT
END:VCALENDAR