BEGIN:VCALENDAR
VERSION:2.0
PRODID:-//PT TEPIS - ECPv6.15.20//NONSGML v1.0//EN
CALSCALE:GREGORIAN
METHOD:PUBLISH
X-ORIGINAL-URL:https://tepis.org.pl
X-WR-CALDESC:Wydarzenia dla PT TEPIS
REFRESH-INTERVAL;VALUE=DURATION:PT1H
X-Robots-Tag:noindex
X-PUBLISHED-TTL:PT1H
BEGIN:VTIMEZONE
TZID:Europe/Warsaw
BEGIN:DAYLIGHT
TZOFFSETFROM:+0100
TZOFFSETTO:+0200
TZNAME:CEST
DTSTART:20220327T010000
END:DAYLIGHT
BEGIN:STANDARD
TZOFFSETFROM:+0200
TZOFFSETTO:+0100
TZNAME:CET
DTSTART:20221030T010000
END:STANDARD
BEGIN:DAYLIGHT
TZOFFSETFROM:+0100
TZOFFSETTO:+0200
TZNAME:CEST
DTSTART:20230326T010000
END:DAYLIGHT
BEGIN:STANDARD
TZOFFSETFROM:+0200
TZOFFSETTO:+0100
TZNAME:CET
DTSTART:20231029T010000
END:STANDARD
BEGIN:DAYLIGHT
TZOFFSETFROM:+0100
TZOFFSETTO:+0200
TZNAME:CEST
DTSTART:20240331T010000
END:DAYLIGHT
BEGIN:STANDARD
TZOFFSETFROM:+0200
TZOFFSETTO:+0100
TZNAME:CET
DTSTART:20241027T010000
END:STANDARD
END:VTIMEZONE
BEGIN:VEVENT
DTSTART;VALUE=DATE:20230225
DTEND;VALUE=DATE:20230226
DTSTAMP:20260423T032212
CREATED:20230207T161757Z
LAST-MODIFIED:20230207T161757Z
UID:24407-1677283200-1677369599@tepis.org.pl
SUMMARY:Jubileusz 30. lecia Zachodniopomorskiego Koła PT TEPIS
DESCRIPTION:Zarząd Zachodniopomorskiego Koła PT TEPIS w Szczecinie serdecznie zaprasza na uroczyste obchody jubileuszu 30. lecia Zachodniopomorskiego Koła PT TEPIS w Szczecinie \ndnia 25 lutego 2023 r. (sobota) \nW programie: \n12:00-14:00    MUZEUM TECHNIKI I KOMUNIKACJI – ZAJEZDNIA SZTUKI W SZCZECINIE \n15:00-17.15    Spotkanie jubileuszowe ze wspólnym obiadem \n18:00-20:00    Spektakl teatralny Disco Macabre w Teatrze Lalek PLECIUGA\, Szczecin \n20:00               Spotkanie towarzyskie w pubie \nLiczba miejsc ograniczona\, decyduje kolejność zgłoszeń w terminie do 09.02.2023 \nzapisy i szczegóły tepis@tepis.org.pl \n 
URL:https://tepis.org.pl/event/jubileusz-30-lecia-zachodniopomorskiego-kola-pt-tepis/
END:VEVENT
END:VCALENDAR