BEGIN:VCALENDAR
VERSION:2.0
PRODID:-//PT TEPIS - ECPv6.15.20//NONSGML v1.0//EN
CALSCALE:GREGORIAN
METHOD:PUBLISH
X-WR-CALNAME:PT TEPIS
X-ORIGINAL-URL:https://tepis.org.pl
X-WR-CALDESC:Wydarzenia dla PT TEPIS
REFRESH-INTERVAL;VALUE=DURATION:PT1H
X-Robots-Tag:noindex
X-PUBLISHED-TTL:PT1H
BEGIN:VTIMEZONE
TZID:Europe/Warsaw
BEGIN:DAYLIGHT
TZOFFSETFROM:+0100
TZOFFSETTO:+0200
TZNAME:CEST
DTSTART:20220327T010000
END:DAYLIGHT
BEGIN:STANDARD
TZOFFSETFROM:+0200
TZOFFSETTO:+0100
TZNAME:CET
DTSTART:20221030T010000
END:STANDARD
BEGIN:DAYLIGHT
TZOFFSETFROM:+0100
TZOFFSETTO:+0200
TZNAME:CEST
DTSTART:20230326T010000
END:DAYLIGHT
BEGIN:STANDARD
TZOFFSETFROM:+0200
TZOFFSETTO:+0100
TZNAME:CET
DTSTART:20231029T010000
END:STANDARD
BEGIN:DAYLIGHT
TZOFFSETFROM:+0100
TZOFFSETTO:+0200
TZNAME:CEST
DTSTART:20240331T010000
END:DAYLIGHT
BEGIN:STANDARD
TZOFFSETFROM:+0200
TZOFFSETTO:+0100
TZNAME:CET
DTSTART:20241027T010000
END:STANDARD
END:VTIMEZONE
BEGIN:VEVENT
DTSTART;TZID=Europe/Warsaw:20230418T170000
DTEND;TZID=Europe/Warsaw:20230418T184500
DTSTAMP:20260423T010038
CREATED:20230319T135100Z
LAST-MODIFIED:20230328T130812Z
UID:25454-1681837200-1681843500@tepis.org.pl
SUMMARY:Szkolenie online z sędzią Tomaszem Pannertem
DESCRIPTION:Zarząd Podlaskiego Koła TEPIS  zaprasza na szkolenie online: \nPrzestępstwa przeciwko bezpieczeństwu w komunikacji a wykroczenia przeciwko bezpieczeństwu i porządkowi w komunikacji. Podstawowe typy przestępstw i wykroczeń\, ich charakterystyka\, definicje oraz terminologia. \nProwadzący szkolenie: Sędzia Tomasz Pannert\, Sędzia III Wydziału Karnego Sądu Rejonowego w Białymstoku \nszczegóły\nWebinarium będzie nagrywane \nZakup uczestnictwa w e-sklepie TEPIS: https://tepis.org.pl/sklep/
URL:https://tepis.org.pl/event/szkolenie-online-z-sedzia-tomaszem-pannertem/
END:VEVENT
BEGIN:VEVENT
DTSTART;TZID=Europe/Warsaw:20230418T190000
DTEND;TZID=Europe/Warsaw:20230418T203000
DTSTAMP:20260423T010038
CREATED:20230412T150118Z
LAST-MODIFIED:20230412T151750Z
UID:26208-1681844400-1681849800@tepis.org.pl
SUMMARY:Prezentacja narzędzia Juremy - wyszukiwarki terminologii unijnej
DESCRIPTION:Zapraszamy na pierwsze webinarium z cyklu #TEPISunijnie \nFunkcjonalność Juremy zaprezentuje twórczyni programu\, Tímea Palotai-Torzsás\, więc spotkanie będzie prowadzone w języku angielskim. \nDla członków TEPIS-u udział jest bezpłatny – zapisy przez e-sklep – www.tepis.org.pl/sklep
URL:https://tepis.org.pl/event/prezentacja-narzedzia-juremy-wyszukiwarka-terminologii-unijnej/
END:VEVENT
END:VCALENDAR