BEGIN:VCALENDAR
VERSION:2.0
PRODID:-//PT TEPIS - ECPv6.15.20//NONSGML v1.0//EN
CALSCALE:GREGORIAN
METHOD:PUBLISH
X-ORIGINAL-URL:https://tepis.org.pl
X-WR-CALDESC:Wydarzenia dla PT TEPIS
REFRESH-INTERVAL;VALUE=DURATION:PT1H
X-Robots-Tag:noindex
X-PUBLISHED-TTL:PT1H
BEGIN:VTIMEZONE
TZID:Europe/Warsaw
BEGIN:DAYLIGHT
TZOFFSETFROM:+0100
TZOFFSETTO:+0200
TZNAME:CEST
DTSTART:20220327T010000
END:DAYLIGHT
BEGIN:STANDARD
TZOFFSETFROM:+0200
TZOFFSETTO:+0100
TZNAME:CET
DTSTART:20221030T010000
END:STANDARD
BEGIN:DAYLIGHT
TZOFFSETFROM:+0100
TZOFFSETTO:+0200
TZNAME:CEST
DTSTART:20230326T010000
END:DAYLIGHT
BEGIN:STANDARD
TZOFFSETFROM:+0200
TZOFFSETTO:+0100
TZNAME:CET
DTSTART:20231029T010000
END:STANDARD
BEGIN:DAYLIGHT
TZOFFSETFROM:+0100
TZOFFSETTO:+0200
TZNAME:CEST
DTSTART:20240331T010000
END:DAYLIGHT
BEGIN:STANDARD
TZOFFSETFROM:+0200
TZOFFSETTO:+0100
TZNAME:CET
DTSTART:20241027T010000
END:STANDARD
END:VTIMEZONE
BEGIN:VEVENT
DTSTART;VALUE=DATE:20230420
DTEND;VALUE=DATE:20230422
DTSTAMP:20260423T010201
CREATED:20230314T132801Z
LAST-MODIFIED:20230314T132801Z
UID:25352-1681948800-1682121599@tepis.org.pl
SUMMARY:Międzynarodowa Konferencja Naukowa „Komunikacja międzykulturowa w przekładzie”\, Olsztyn
DESCRIPTION:Międzynarodowa Konferencja Naukowa „Komunikacja międzykulturowa w przekładzie” z cyklu „Między Słowami – Między Światami”\, która odbędzie się 20-21 kwietnia 2023 r. w Olsztynie.\n\n \n\nszczegóły>>>
URL:https://tepis.org.pl/event/miedzynarodowa-konferencja-naukowa-komunikacja-miedzykulturowa-w-przekladzie-olsztyn/
END:VEVENT
BEGIN:VEVENT
DTSTART;TZID=Europe/Warsaw:20230420T100000
DTEND;TZID=Europe/Warsaw:20230420T131500
DTSTAMP:20260423T010201
CREATED:20230404T105342Z
LAST-MODIFIED:20230404T105342Z
UID:25932-1681984800-1681996500@tepis.org.pl
SUMMARY:Webinarium: Jak czytać\, rozumieć i tłumaczyć hiszpańskie umowy sprzedaży nieruchomości? cz. 2/2
DESCRIPTION:Warsztaty online dla tłumaczy języka hiszpańskiego pt. Jak czytać\, rozumieć i tłumaczyć hiszpańskie umowy sprzedaży nieruchomości? \nw dniach 19.04. i 20.04.2023 r. (środa i czwartek) w godz.: 10.00 – 13.15 \nOpis szkolenia \n Zapisy i zakup uczestnictwa w e-sklepie TEPIS: https://tepis.org.pl/sklep/
URL:https://tepis.org.pl/event/webinarium-jak-czytac-rozumiec-i-tlumaczyc-hiszpanskie-umowy-sprzedazy-nieruchomosci-cz-2-2/
END:VEVENT
BEGIN:VEVENT
DTSTART;TZID=Europe/Warsaw:20230420T173000
DTEND;TZID=Europe/Warsaw:20230420T193000
DTSTAMP:20260423T010201
CREATED:20230331T085201Z
LAST-MODIFIED:20230417T064453Z
UID:25843-1682011800-1682019000@tepis.org.pl
SUMMARY:Warsztaty dla germanistów: Solo też można - czyli... część 1/3
DESCRIPTION:Zapraszamy na cykl 3 webinariów dla germanistów pt.:  \nSolo też można – czyli o tym\, jak praktycznie wykorzystać podręcznik w doskonaleniu kompetencji zawodowych tłumacza\nTerminy:  20.04.2023 r. (czwartek) \, 25.04.2023 r. (wtorek) i 27.04.2023 r. (czwartek)\, w godz. 17:30-19:30 \nopis szkolenia\nZapisy i zakup uczestnictwa w e-sklepie TEPIS: https://tepis.org.pl/sklep/ \nWebinaria będą nagrywane \nSpotkania odbywają się na platformie MS Teams
URL:https://tepis.org.pl/event/warsztaty-dla-germanistow-samoksztalcenie-w-dobie-pandemii-czesc-1-3/
END:VEVENT
BEGIN:VEVENT
DTSTART;TZID=Europe/Warsaw:20230420T183000
DTEND;TZID=Europe/Warsaw:20230420T201500
DTSTAMP:20260423T010201
CREATED:20230323T075916Z
LAST-MODIFIED:20230323T075916Z
UID:25580-1682015400-1682021700@tepis.org.pl
SUMMARY:Medycyna estetyczna EN/PL - webinarium 2/4
DESCRIPTION:Drugie z cyklu 4 szkoleń online pt.: Medycyna estetyczna – warsztaty dla tłumaczy języka angielskiego\nTerminy szkoleń: 4.04.2023 r. (wtorek)\,  20.04.2023 r. (czwartek)\, 15.05.2023 r. (poniedziałek)\, 22.05.2023 r. (poniedziałek) \nopis szkolenia: Webinarium_Tłumaczenia med. estet_EKO EN 2023.doc \nZapisy i zakup uczestnictwa w e-sklepie TEPIS: https://tepis.org.pl/sklep/ \nSzkolenie będzie nagrywane
URL:https://tepis.org.pl/event/medycyna-estetyczna-en-pl-webinarium-2-4/
END:VEVENT
END:VCALENDAR