BEGIN:VCALENDAR
VERSION:2.0
PRODID:-//PT TEPIS - ECPv6.15.20//NONSGML v1.0//EN
CALSCALE:GREGORIAN
METHOD:PUBLISH
X-WR-CALNAME:PT TEPIS
X-ORIGINAL-URL:https://tepis.org.pl
X-WR-CALDESC:Wydarzenia dla PT TEPIS
REFRESH-INTERVAL;VALUE=DURATION:PT1H
X-Robots-Tag:noindex
X-PUBLISHED-TTL:PT1H
BEGIN:VTIMEZONE
TZID:Europe/Warsaw
BEGIN:DAYLIGHT
TZOFFSETFROM:+0100
TZOFFSETTO:+0200
TZNAME:CEST
DTSTART:20220327T010000
END:DAYLIGHT
BEGIN:STANDARD
TZOFFSETFROM:+0200
TZOFFSETTO:+0100
TZNAME:CET
DTSTART:20221030T010000
END:STANDARD
BEGIN:DAYLIGHT
TZOFFSETFROM:+0100
TZOFFSETTO:+0200
TZNAME:CEST
DTSTART:20230326T010000
END:DAYLIGHT
BEGIN:STANDARD
TZOFFSETFROM:+0200
TZOFFSETTO:+0100
TZNAME:CET
DTSTART:20231029T010000
END:STANDARD
BEGIN:DAYLIGHT
TZOFFSETFROM:+0100
TZOFFSETTO:+0200
TZNAME:CEST
DTSTART:20240331T010000
END:DAYLIGHT
BEGIN:STANDARD
TZOFFSETFROM:+0200
TZOFFSETTO:+0100
TZNAME:CET
DTSTART:20241027T010000
END:STANDARD
END:VTIMEZONE
BEGIN:VEVENT
DTSTART;VALUE=DATE:20230420
DTEND;VALUE=DATE:20230422
DTSTAMP:20260423T010011
CREATED:20230314T132801Z
LAST-MODIFIED:20230314T132801Z
UID:25352-1681948800-1682121599@tepis.org.pl
SUMMARY:Międzynarodowa Konferencja Naukowa „Komunikacja międzykulturowa w przekładzie”\, Olsztyn
DESCRIPTION:Międzynarodowa Konferencja Naukowa „Komunikacja międzykulturowa w przekładzie” z cyklu „Między Słowami – Między Światami”\, która odbędzie się 20-21 kwietnia 2023 r. w Olsztynie.\n\n \n\nszczegóły>>>
URL:https://tepis.org.pl/event/miedzynarodowa-konferencja-naukowa-komunikacja-miedzykulturowa-w-przekladzie-olsztyn/
END:VEVENT
BEGIN:VEVENT
DTSTART;TZID=Europe/Warsaw:20230421T173000
DTEND;TZID=Europe/Warsaw:20230421T190000
DTSTAMP:20260423T010011
CREATED:20230411T104407Z
LAST-MODIFIED:20230411T104407Z
UID:26173-1682098200-1682103600@tepis.org.pl
SUMMARY:Spotkanie networkingowe PT TEPIS w Katowicach
DESCRIPTION:Zarząd Górnośląskiego Koła PT TEPIS serdecznie zaprasza na spotkanie networkingowe\, podczas którego porozmawiamy o aktualnej sytuacji w branży i wymienimy się doświadczeniami. \nGościem specjalnym spotkania będzie Grzegorz Kulik\, tłumacz m.in. Hobbita\, Alicji w Krainie Czarów\, Kubusia Puchatka i powieści Szczepana Twardocha na język śląski. \nSpotkanie dla członków PT TEPIS \nChęć wzięcia udziału można zgłaszać przez formularz: https://tiny.pl/w62zc
URL:https://tepis.org.pl/event/spotkanie-networkingowe-pt-tepis-w-katowicach/
END:VEVENT
END:VCALENDAR