BEGIN:VCALENDAR
VERSION:2.0
PRODID:-//PT TEPIS - ECPv6.15.20//NONSGML v1.0//EN
CALSCALE:GREGORIAN
METHOD:PUBLISH
X-ORIGINAL-URL:https://tepis.org.pl
X-WR-CALDESC:Wydarzenia dla PT TEPIS
REFRESH-INTERVAL;VALUE=DURATION:PT1H
X-Robots-Tag:noindex
X-PUBLISHED-TTL:PT1H
BEGIN:VTIMEZONE
TZID:Europe/Warsaw
BEGIN:DAYLIGHT
TZOFFSETFROM:+0100
TZOFFSETTO:+0200
TZNAME:CEST
DTSTART:20220327T010000
END:DAYLIGHT
BEGIN:STANDARD
TZOFFSETFROM:+0200
TZOFFSETTO:+0100
TZNAME:CET
DTSTART:20221030T010000
END:STANDARD
BEGIN:DAYLIGHT
TZOFFSETFROM:+0100
TZOFFSETTO:+0200
TZNAME:CEST
DTSTART:20230326T010000
END:DAYLIGHT
BEGIN:STANDARD
TZOFFSETFROM:+0200
TZOFFSETTO:+0100
TZNAME:CET
DTSTART:20231029T010000
END:STANDARD
BEGIN:DAYLIGHT
TZOFFSETFROM:+0100
TZOFFSETTO:+0200
TZNAME:CEST
DTSTART:20240331T010000
END:DAYLIGHT
BEGIN:STANDARD
TZOFFSETFROM:+0200
TZOFFSETTO:+0100
TZNAME:CET
DTSTART:20241027T010000
END:STANDARD
END:VTIMEZONE
BEGIN:VEVENT
DTSTART;TZID=Europe/Warsaw:20230510T180000
DTEND;TZID=Europe/Warsaw:20230510T190000
DTSTAMP:20260422T234728
CREATED:20230421T133725Z
LAST-MODIFIED:20230421T134013Z
UID:27040-1683741600-1683745200@tepis.org.pl
SUMMARY:Językiem Europy jest przekład. O tłumaczeniach pisemnych w Komisji Europejskiej
DESCRIPTION:Zapraszamy na webinarium pt. „Językiem Europy jest przekład: o tłumaczeniach pisemnych w Komisji Europejskiej” \nszczegóły \nZapisy i zakup uczestnictwa w e-sklepie TEPIS: https://tepis.org.pl/sklep/
URL:https://tepis.org.pl/event/jezykiem-europy-jest-przeklad-o-tlumaczeniach-pisemnych-w-komisji-europejskiej/
END:VEVENT
END:VCALENDAR