BEGIN:VCALENDAR
VERSION:2.0
PRODID:-//PT TEPIS - ECPv6.15.20//NONSGML v1.0//EN
CALSCALE:GREGORIAN
METHOD:PUBLISH
X-ORIGINAL-URL:https://tepis.org.pl
X-WR-CALDESC:Wydarzenia dla PT TEPIS
REFRESH-INTERVAL;VALUE=DURATION:PT1H
X-Robots-Tag:noindex
X-PUBLISHED-TTL:PT1H
BEGIN:VTIMEZONE
TZID:Europe/Warsaw
BEGIN:DAYLIGHT
TZOFFSETFROM:+0100
TZOFFSETTO:+0200
TZNAME:CEST
DTSTART:20220327T010000
END:DAYLIGHT
BEGIN:STANDARD
TZOFFSETFROM:+0200
TZOFFSETTO:+0100
TZNAME:CET
DTSTART:20221030T010000
END:STANDARD
BEGIN:DAYLIGHT
TZOFFSETFROM:+0100
TZOFFSETTO:+0200
TZNAME:CEST
DTSTART:20230326T010000
END:DAYLIGHT
BEGIN:STANDARD
TZOFFSETFROM:+0200
TZOFFSETTO:+0100
TZNAME:CET
DTSTART:20231029T010000
END:STANDARD
BEGIN:DAYLIGHT
TZOFFSETFROM:+0100
TZOFFSETTO:+0200
TZNAME:CEST
DTSTART:20240331T010000
END:DAYLIGHT
BEGIN:STANDARD
TZOFFSETFROM:+0200
TZOFFSETTO:+0100
TZNAME:CET
DTSTART:20241027T010000
END:STANDARD
END:VTIMEZONE
BEGIN:VEVENT
DTSTART;TZID=Europe/Warsaw:20230515T183000
DTEND;TZID=Europe/Warsaw:20230515T201500
DTSTAMP:20260422T234725
CREATED:20230323T080131Z
LAST-MODIFIED:20230323T080131Z
UID:25582-1684175400-1684181700@tepis.org.pl
SUMMARY:Medycyna estetyczna EN/PL - webinarium 3/4
DESCRIPTION:Trzecie z cyklu 4 szkoleń online pt.: Medycyna estetyczna – warsztaty dla tłumaczy języka angielskiego\nTerminy szkoleń: 4.04.2023 r. (wtorek)\,  20.04.2023 r. (czwartek)\, 15.05.2023 r. (poniedziałek)\, 22.05.2023 r. (poniedziałek) \nopis szkolenia: Webinarium_Tłumaczenia med. estet_EKO EN 2023.doc \nZapisy i zakup uczestnictwa w e-sklepie TEPIS: https://tepis.org.pl/sklep/ \nSzkolenie będzie nagrywane
URL:https://tepis.org.pl/event/medycyna-estetyczna-en-pl-webinarium-3-4/
END:VEVENT
END:VCALENDAR