BEGIN:VCALENDAR
VERSION:2.0
PRODID:-//PT TEPIS - ECPv6.15.20//NONSGML v1.0//EN
CALSCALE:GREGORIAN
METHOD:PUBLISH
X-WR-CALNAME:PT TEPIS
X-ORIGINAL-URL:https://tepis.org.pl
X-WR-CALDESC:Wydarzenia dla PT TEPIS
REFRESH-INTERVAL;VALUE=DURATION:PT1H
X-Robots-Tag:noindex
X-PUBLISHED-TTL:PT1H
BEGIN:VTIMEZONE
TZID:Europe/Warsaw
BEGIN:DAYLIGHT
TZOFFSETFROM:+0100
TZOFFSETTO:+0200
TZNAME:CEST
DTSTART:20220327T010000
END:DAYLIGHT
BEGIN:STANDARD
TZOFFSETFROM:+0200
TZOFFSETTO:+0100
TZNAME:CET
DTSTART:20221030T010000
END:STANDARD
BEGIN:DAYLIGHT
TZOFFSETFROM:+0100
TZOFFSETTO:+0200
TZNAME:CEST
DTSTART:20230326T010000
END:DAYLIGHT
BEGIN:STANDARD
TZOFFSETFROM:+0200
TZOFFSETTO:+0100
TZNAME:CET
DTSTART:20231029T010000
END:STANDARD
BEGIN:DAYLIGHT
TZOFFSETFROM:+0100
TZOFFSETTO:+0200
TZNAME:CEST
DTSTART:20240331T010000
END:DAYLIGHT
BEGIN:STANDARD
TZOFFSETFROM:+0200
TZOFFSETTO:+0100
TZNAME:CET
DTSTART:20241027T010000
END:STANDARD
END:VTIMEZONE
BEGIN:VEVENT
DTSTART;TZID=Europe/Warsaw:20230529T170000
DTEND;TZID=Europe/Warsaw:20230529T183000
DTSTAMP:20260422T234629
CREATED:20230127T090853Z
LAST-MODIFIED:20230127T090917Z
UID:24076-1685379600-1685385000@tepis.org.pl
SUMMARY:Kurs z zakresu prawa\, moduł 6\, wykład-Prawo pracy
DESCRIPTION:Webinarium „Kurs dla tłumaczy języków obcych z zakresu prawa 2022 -2023” \nWykład ogólny w języku polskim \nTemat VI. PRAWO PRACY I PROCEDURY Z NIM ZWIĄZANE \nPROGRAM-SZKOLENIA-KURS-PRAWA
URL:https://tepis.org.pl/event/kurs-z-zakresu-prawa-modul-6-wyklad-prawo-pracy/
END:VEVENT
BEGIN:VEVENT
DTSTART;TZID=Europe/Warsaw:20230529T184500
DTEND;TZID=Europe/Warsaw:20230529T201500
DTSTAMP:20260422T234629
CREATED:20230127T091616Z
LAST-MODIFIED:20230127T091616Z
UID:24081-1685385900-1685391300@tepis.org.pl
SUMMARY:Kurs z zakresu prawa\, moduł 6\, warsztaty- język angielski
DESCRIPTION:Webinarium „Kurs dla tłumaczy języków obcych z zakresu prawa 2022 -2023” \n6 moduł podstawowy: Warsztaty tematyczne w sekcjach językowych – sekcja języka angielskiego \nTemat VI. PRAWO PRACY I PROCEDURY Z NIM ZWIĄZANE \nPROGRAM-SZKOLENIA-KURS-PRAWA
URL:https://tepis.org.pl/event/kurs-z-zakresu-prawa-modul-6-warsztaty-jezyk-angielski/
END:VEVENT
END:VCALENDAR