BEGIN:VCALENDAR
VERSION:2.0
PRODID:-//PT TEPIS - ECPv6.15.20//NONSGML v1.0//EN
CALSCALE:GREGORIAN
METHOD:PUBLISH
X-ORIGINAL-URL:https://tepis.org.pl
X-WR-CALDESC:Wydarzenia dla PT TEPIS
REFRESH-INTERVAL;VALUE=DURATION:PT1H
X-Robots-Tag:noindex
X-PUBLISHED-TTL:PT1H
BEGIN:VTIMEZONE
TZID:Europe/Warsaw
BEGIN:DAYLIGHT
TZOFFSETFROM:+0100
TZOFFSETTO:+0200
TZNAME:CEST
DTSTART:20220327T010000
END:DAYLIGHT
BEGIN:STANDARD
TZOFFSETFROM:+0200
TZOFFSETTO:+0100
TZNAME:CET
DTSTART:20221030T010000
END:STANDARD
BEGIN:DAYLIGHT
TZOFFSETFROM:+0100
TZOFFSETTO:+0200
TZNAME:CEST
DTSTART:20230326T010000
END:DAYLIGHT
BEGIN:STANDARD
TZOFFSETFROM:+0200
TZOFFSETTO:+0100
TZNAME:CET
DTSTART:20231029T010000
END:STANDARD
BEGIN:DAYLIGHT
TZOFFSETFROM:+0100
TZOFFSETTO:+0200
TZNAME:CEST
DTSTART:20240331T010000
END:DAYLIGHT
BEGIN:STANDARD
TZOFFSETFROM:+0200
TZOFFSETTO:+0100
TZNAME:CET
DTSTART:20241027T010000
END:STANDARD
END:VTIMEZONE
BEGIN:VEVENT
DTSTART;TZID=Europe/Warsaw:20230530T170000
DTEND;TZID=Europe/Warsaw:20230530T183000
DTSTAMP:20260422T234733
CREATED:20230127T091846Z
LAST-MODIFIED:20230127T091846Z
UID:24083-1685466000-1685471400@tepis.org.pl
SUMMARY:Kurs z zakresu prawa\, moduł 6\, warsztaty- język francuski
DESCRIPTION:Webinarium „Kurs dla tłumaczy języków obcych z zakresu prawa 2022 -2023” \n6 moduł podstawowy: Warsztaty tematyczne w sekcjach językowych – sekcja języka francuskiego \nTemat VI. PRAWO PRACY I PROCEDURY Z NIM ZWIĄZANE \nPROGRAM-SZKOLENIA-KURS-PRAWA
URL:https://tepis.org.pl/event/kurs-z-zakresu-prawa-modul-6-warsztaty-jezyk-francuski/
END:VEVENT
BEGIN:VEVENT
DTSTART;TZID=Europe/Warsaw:20230530T184500
DTEND;TZID=Europe/Warsaw:20230530T201500
DTSTAMP:20260422T234733
CREATED:20230127T092724Z
LAST-MODIFIED:20230127T092724Z
UID:24091-1685472300-1685477700@tepis.org.pl
SUMMARY:Kurs z zakresu prawa\, moduł 6\, warsztaty- język włoski
DESCRIPTION:Webinarium „Kurs dla tłumaczy języków obcych z zakresu prawa 2022 -2023” \n6 moduł podstawowy: Warsztaty tematyczne w sekcjach językowych – sekcja języka włoskiego \nTemat VI. PRAWO PRACY I PROCEDURY Z NIM ZWIĄZANE \nPROGRAM-SZKOLENIA-KURS-PRAWA
URL:https://tepis.org.pl/event/kurs-z-zakresu-prawa-modul-6-warsztaty-jezyk-wloski/
END:VEVENT
BEGIN:VEVENT
DTSTART;TZID=Europe/Warsaw:20230530T190000
DTEND;TZID=Europe/Warsaw:20230530T203000
DTSTAMP:20260422T234733
CREATED:20230127T093525Z
LAST-MODIFIED:20230127T093525Z
UID:24098-1685473200-1685478600@tepis.org.pl
SUMMARY:Kurs z zakresu prawa\, moduł 6\, warsztaty- język chorwacki
DESCRIPTION:Webinarium „Kurs dla tłumaczy języków obcych z zakresu prawa 2022 -2023” \n6 moduł podstawowy: Warsztaty tematyczne w sekcjach językowych – sekcja języka chorwackiego \nTemat VI. PRAWO PRACY I PROCEDURY Z NIM ZWIĄZANE \nPROGRAM-SZKOLENIA-KURS-PRAWA
URL:https://tepis.org.pl/event/kurs-z-zakresu-prawa-modul-6-warsztaty-jezyk-chorwacki/
END:VEVENT
END:VCALENDAR