BEGIN:VCALENDAR
VERSION:2.0
PRODID:-//PT TEPIS - ECPv6.15.20//NONSGML v1.0//EN
CALSCALE:GREGORIAN
METHOD:PUBLISH
X-WR-CALNAME:PT TEPIS
X-ORIGINAL-URL:https://tepis.org.pl
X-WR-CALDESC:Wydarzenia dla PT TEPIS
REFRESH-INTERVAL;VALUE=DURATION:PT1H
X-Robots-Tag:noindex
X-PUBLISHED-TTL:PT1H
BEGIN:VTIMEZONE
TZID:Europe/Warsaw
BEGIN:DAYLIGHT
TZOFFSETFROM:+0100
TZOFFSETTO:+0200
TZNAME:CEST
DTSTART:20220327T010000
END:DAYLIGHT
BEGIN:STANDARD
TZOFFSETFROM:+0200
TZOFFSETTO:+0100
TZNAME:CET
DTSTART:20221030T010000
END:STANDARD
BEGIN:DAYLIGHT
TZOFFSETFROM:+0100
TZOFFSETTO:+0200
TZNAME:CEST
DTSTART:20230326T010000
END:DAYLIGHT
BEGIN:STANDARD
TZOFFSETFROM:+0200
TZOFFSETTO:+0100
TZNAME:CET
DTSTART:20231029T010000
END:STANDARD
BEGIN:DAYLIGHT
TZOFFSETFROM:+0100
TZOFFSETTO:+0200
TZNAME:CEST
DTSTART:20240331T010000
END:DAYLIGHT
BEGIN:STANDARD
TZOFFSETFROM:+0200
TZOFFSETTO:+0100
TZNAME:CET
DTSTART:20241027T010000
END:STANDARD
END:VTIMEZONE
BEGIN:VEVENT
DTSTART;TZID=Europe/Warsaw:20230607T100000
DTEND;TZID=Europe/Warsaw:20230607T110000
DTSTAMP:20260422T234629
CREATED:20230719T091812Z
LAST-MODIFIED:20230719T091812Z
UID:30115-1686132000-1686135600@tepis.org.pl
SUMMARY:Tertulia dla tłumaczy języka angielskiego. Temat: Tłumaczenie dokumentów szkolnych (2 edycja)
DESCRIPTION:Tertulia dla tłumaczy języka angielskiego. Temat: Tłumaczenie dokumentów szkolnych\, czyli dyplomów\, świadectw\, itp. (2 edycja) \nmoderacja: Małgorzata Stryjewska\, Aleksandra Podgórniak-Musil
URL:https://tepis.org.pl/event/tertulia-dla-tlumaczy-jezyka-angielskiego-temat-tlumaczenie-dokumentow-szkolnych-2-edycja/
END:VEVENT
END:VCALENDAR