BEGIN:VCALENDAR
VERSION:2.0
PRODID:-//PT TEPIS - ECPv6.15.20//NONSGML v1.0//EN
CALSCALE:GREGORIAN
METHOD:PUBLISH
X-ORIGINAL-URL:https://tepis.org.pl
X-WR-CALDESC:Wydarzenia dla PT TEPIS
REFRESH-INTERVAL;VALUE=DURATION:PT1H
X-Robots-Tag:noindex
X-PUBLISHED-TTL:PT1H
BEGIN:VTIMEZONE
TZID:Europe/Warsaw
BEGIN:DAYLIGHT
TZOFFSETFROM:+0100
TZOFFSETTO:+0200
TZNAME:CEST
DTSTART:20220327T010000
END:DAYLIGHT
BEGIN:STANDARD
TZOFFSETFROM:+0200
TZOFFSETTO:+0100
TZNAME:CET
DTSTART:20221030T010000
END:STANDARD
BEGIN:DAYLIGHT
TZOFFSETFROM:+0100
TZOFFSETTO:+0200
TZNAME:CEST
DTSTART:20230326T010000
END:DAYLIGHT
BEGIN:STANDARD
TZOFFSETFROM:+0200
TZOFFSETTO:+0100
TZNAME:CET
DTSTART:20231029T010000
END:STANDARD
BEGIN:DAYLIGHT
TZOFFSETFROM:+0100
TZOFFSETTO:+0200
TZNAME:CEST
DTSTART:20240331T010000
END:DAYLIGHT
BEGIN:STANDARD
TZOFFSETFROM:+0200
TZOFFSETTO:+0100
TZNAME:CET
DTSTART:20241027T010000
END:STANDARD
END:VTIMEZONE
BEGIN:VEVENT
DTSTART;TZID=Europe/Warsaw:20230928T170000
DTEND;TZID=Europe/Warsaw:20230928T183000
DTSTAMP:20260422T142029
CREATED:20230512T092648Z
LAST-MODIFIED:20230512T092648Z
UID:28116-1695920400-1695925800@tepis.org.pl
SUMMARY:Kurs z zakresu prawa\, moduł 7\, warsztaty- język rosyjski
DESCRIPTION:Webinarium „Kurs dla tłumaczy języków obcych z zakresu prawa 2022 -2023” \n7 moduł podstawowy: Warsztaty tematyczne w sekcjach językowych – sekcja rosyjska \nTemat VII. PRAWO HANDLOWE \nPROGRAM-SZKOLENIA-KURS-PRAWA
URL:https://tepis.org.pl/event/kurs-z-zakresu-prawa-modul-7-warsztaty-jezyk-rosyjski/
END:VEVENT
BEGIN:VEVENT
DTSTART;TZID=Europe/Warsaw:20230928T184500
DTEND;TZID=Europe/Warsaw:20230928T201500
DTSTAMP:20260422T142029
CREATED:20230512T091610Z
LAST-MODIFIED:20230512T091610Z
UID:28108-1695926700-1695932100@tepis.org.pl
SUMMARY:Kurs z zakresu prawa\, moduł 7\, warsztaty- język ukraiński
DESCRIPTION:Webinarium „Kurs dla tłumaczy języków obcych z zakresu prawa 2022 -2023” \n7 moduł podstawowy: Warsztaty tematyczne w sekcjach językowych – sekcja ukraińska \nTemat VII. PRAWO HANDLOWE \nPROGRAM-SZKOLENIA-KURS-PRAWA
URL:https://tepis.org.pl/event/kurs-z-zakresu-prawa-modul-7-warsztaty-jezyk-ukrainski/
END:VEVENT
BEGIN:VEVENT
DTSTART;TZID=Europe/Warsaw:20230928T190000
DTEND;TZID=Europe/Warsaw:20230928T203000
DTSTAMP:20260422T142029
CREATED:20230927T155153Z
LAST-MODIFIED:20230929T115516Z
UID:31822-1695927600-1695933000@tepis.org.pl
SUMMARY:Spotkanie hieronimkowe w Warszawie
DESCRIPTION:
URL:https://tepis.org.pl/event/31822/
END:VEVENT
END:VCALENDAR