BEGIN:VCALENDAR
VERSION:2.0
PRODID:-//PT TEPIS - ECPv6.15.20//NONSGML v1.0//EN
CALSCALE:GREGORIAN
METHOD:PUBLISH
X-ORIGINAL-URL:https://tepis.org.pl
X-WR-CALDESC:Wydarzenia dla PT TEPIS
REFRESH-INTERVAL;VALUE=DURATION:PT1H
X-Robots-Tag:noindex
X-PUBLISHED-TTL:PT1H
BEGIN:VTIMEZONE
TZID:Europe/Warsaw
BEGIN:DAYLIGHT
TZOFFSETFROM:+0100
TZOFFSETTO:+0200
TZNAME:CEST
DTSTART:20220327T010000
END:DAYLIGHT
BEGIN:STANDARD
TZOFFSETFROM:+0200
TZOFFSETTO:+0100
TZNAME:CET
DTSTART:20221030T010000
END:STANDARD
BEGIN:DAYLIGHT
TZOFFSETFROM:+0100
TZOFFSETTO:+0200
TZNAME:CEST
DTSTART:20230326T010000
END:DAYLIGHT
BEGIN:STANDARD
TZOFFSETFROM:+0200
TZOFFSETTO:+0100
TZNAME:CET
DTSTART:20231029T010000
END:STANDARD
BEGIN:DAYLIGHT
TZOFFSETFROM:+0100
TZOFFSETTO:+0200
TZNAME:CEST
DTSTART:20240331T010000
END:DAYLIGHT
BEGIN:STANDARD
TZOFFSETFROM:+0200
TZOFFSETTO:+0100
TZNAME:CET
DTSTART:20241027T010000
END:STANDARD
END:VTIMEZONE
BEGIN:VEVENT
DTSTART;TZID=Europe/Warsaw:20230929T170000
DTEND;TZID=Europe/Warsaw:20230929T183000
DTSTAMP:20260422T142029
CREATED:20230512T093111Z
LAST-MODIFIED:20230512T093111Z
UID:28120-1696006800-1696012200@tepis.org.pl
SUMMARY:Kurs z zakresu prawa\, moduł 7\, warsztaty- język chiński
DESCRIPTION:Webinarium „Kurs dla tłumaczy języków obcych z zakresu prawa 2022 -2023” \n7 moduł podstawowy: Warsztaty tematyczne w sekcjach językowych – sekcja azjatycka\, język chiński \nTemat VII. PRAWO HANDLOWE \nPROGRAM-SZKOLENIA-KURS-PRAWA
URL:https://tepis.org.pl/event/kurs-z-zakresu-prawa-modul-7-warsztaty-jezyk-chinski/
END:VEVENT
BEGIN:VEVENT
DTSTART;TZID=Europe/Warsaw:20230929T173000
DTEND;TZID=Europe/Warsaw:20230929T190000
DTSTAMP:20260422T142029
CREATED:20230927T155917Z
LAST-MODIFIED:20230927T155917Z
UID:31828-1696008600-1696014000@tepis.org.pl
SUMMARY:Spotkanie hieronimkowe w Katowicach
DESCRIPTION:Wykład pt. Czego nauczyć nas mogą wpadki i gafy w dyplomacji. \nW Akademii Dyplomacji działającej przy Uniwersytecie Śląskim\, ul. Uniwersytecka 4 (sala: B0.21-22). Udział w wykładzie jest bezpłatny. Liczba miejsc jest ograniczona\, obowiązuje kolejność zgłoszeń. Dla chętnych – po wykładzie będzie okazja do wypicia hieronimkowego toastu i do nieformalnego networkingu.
URL:https://tepis.org.pl/event/spotkanie-hieronimkowe-w-katowicach/
END:VEVENT
BEGIN:VEVENT
DTSTART;TZID=Europe/Warsaw:20230929T184500
DTEND;TZID=Europe/Warsaw:20230929T201500
DTSTAMP:20260422T142029
CREATED:20230512T092903Z
LAST-MODIFIED:20230829T070751Z
UID:28118-1696013100-1696018500@tepis.org.pl
SUMMARY:Kurs z zakresu prawa\, moduł 7\, warsztaty- język chorwacki
DESCRIPTION:Webinarium „Kurs dla tłumaczy języków obcych z zakresu prawa 2022 -2023” \n7 moduł podstawowy: Warsztaty tematyczne w sekcjach językowych – sekcja chorwacka \nTemat VII. PRAWO HANDLOWE \nPROGRAM-SZKOLENIA-KURS-PRAWA
URL:https://tepis.org.pl/event/kurs-z-zakresu-prawa-modul-7-warsztaty-jezyk-chorwacki/
END:VEVENT
END:VCALENDAR