BEGIN:VCALENDAR
VERSION:2.0
PRODID:-//PT TEPIS - ECPv6.15.20//NONSGML v1.0//EN
CALSCALE:GREGORIAN
METHOD:PUBLISH
X-WR-CALNAME:PT TEPIS
X-ORIGINAL-URL:https://tepis.org.pl
X-WR-CALDESC:Wydarzenia dla PT TEPIS
REFRESH-INTERVAL;VALUE=DURATION:PT1H
X-Robots-Tag:noindex
X-PUBLISHED-TTL:PT1H
BEGIN:VTIMEZONE
TZID:Europe/Warsaw
BEGIN:DAYLIGHT
TZOFFSETFROM:+0100
TZOFFSETTO:+0200
TZNAME:CEST
DTSTART:20220327T010000
END:DAYLIGHT
BEGIN:STANDARD
TZOFFSETFROM:+0200
TZOFFSETTO:+0100
TZNAME:CET
DTSTART:20221030T010000
END:STANDARD
BEGIN:DAYLIGHT
TZOFFSETFROM:+0100
TZOFFSETTO:+0200
TZNAME:CEST
DTSTART:20230326T010000
END:DAYLIGHT
BEGIN:STANDARD
TZOFFSETFROM:+0200
TZOFFSETTO:+0100
TZNAME:CET
DTSTART:20231029T010000
END:STANDARD
BEGIN:DAYLIGHT
TZOFFSETFROM:+0100
TZOFFSETTO:+0200
TZNAME:CEST
DTSTART:20240331T010000
END:DAYLIGHT
BEGIN:STANDARD
TZOFFSETFROM:+0200
TZOFFSETTO:+0100
TZNAME:CET
DTSTART:20241027T010000
END:STANDARD
END:VTIMEZONE
BEGIN:VEVENT
DTSTART;TZID=Europe/Warsaw:20230930T110000
DTEND;TZID=Europe/Warsaw:20230930T141500
DTSTAMP:20260422T142019
CREATED:20230512T103128Z
LAST-MODIFIED:20230512T103128Z
UID:28147-1696071600-1696083300@tepis.org.pl
SUMMARY:Prawo karne procesowe /V MODUŁ DODATKOWY/Kurs z zakresu prawa
DESCRIPTION:Kurs dla tłumaczy języków obcych z zakresu prawa 2022 -2023 \nV MODUŁ DODATKOWY \nTemat: PRAWO KARNE PROCESOWE \nPostępowanie przygotowawcze – czynności wyjaśniające\, fazy postępowania\, strony postępowania\, udział sądu w postępowaniu przygotowawczym\, udział tłumacza w postępowaniu przygotowawczym \nImię i nazwisko wykładowcy: adw. Bartłomiej Mużyło \nProgram kursu dla tłumaczy z zakresu prawa (2022-2023)
URL:https://tepis.org.pl/event/prawo-karne-procesowe-v-modul-dodatkowy-kurs-z-zakresu-prawa/
END:VEVENT
END:VCALENDAR