BEGIN:VCALENDAR
VERSION:2.0
PRODID:-//PT TEPIS - ECPv6.15.20//NONSGML v1.0//EN
CALSCALE:GREGORIAN
METHOD:PUBLISH
X-ORIGINAL-URL:https://tepis.org.pl
X-WR-CALDESC:Wydarzenia dla PT TEPIS
REFRESH-INTERVAL;VALUE=DURATION:PT1H
X-Robots-Tag:noindex
X-PUBLISHED-TTL:PT1H
BEGIN:VTIMEZONE
TZID:Europe/Warsaw
BEGIN:DAYLIGHT
TZOFFSETFROM:+0100
TZOFFSETTO:+0200
TZNAME:CEST
DTSTART:20220327T010000
END:DAYLIGHT
BEGIN:STANDARD
TZOFFSETFROM:+0200
TZOFFSETTO:+0100
TZNAME:CET
DTSTART:20221030T010000
END:STANDARD
BEGIN:DAYLIGHT
TZOFFSETFROM:+0100
TZOFFSETTO:+0200
TZNAME:CEST
DTSTART:20230326T010000
END:DAYLIGHT
BEGIN:STANDARD
TZOFFSETFROM:+0200
TZOFFSETTO:+0100
TZNAME:CET
DTSTART:20231029T010000
END:STANDARD
BEGIN:DAYLIGHT
TZOFFSETFROM:+0100
TZOFFSETTO:+0200
TZNAME:CEST
DTSTART:20240331T010000
END:DAYLIGHT
BEGIN:STANDARD
TZOFFSETFROM:+0200
TZOFFSETTO:+0100
TZNAME:CET
DTSTART:20241027T010000
END:STANDARD
END:VTIMEZONE
BEGIN:VEVENT
DTSTART;TZID=Europe/Warsaw:20231114T180000
DTEND;TZID=Europe/Warsaw:20231114T193000
DTSTAMP:20260422T195747
CREATED:20231029T155418Z
LAST-MODIFIED:20231029T155922Z
UID:32776-1699984800-1699990200@tepis.org.pl
SUMMARY:Wprowadzenie do tłumaczeń technicznych (EN/PL) Część 1
DESCRIPTION:Zapraszamy na szkolenie online dla tłumaczy języka angielskiego pt. \nWprowadzenie do tłumaczeń technicznych – jak zacząć\, jak się przygotować i czego się spodziewać\nTermin:  14 i 21 listopada  (wtorki)\, godz. 18.00-19.30 \nszczegóły \nZapisy w sklepie  TEPIS: https://tepis.org.pl/sklep/ \n 
URL:https://tepis.org.pl/event/wprowadzenie-do-tlumaczen-technicznych-webinarium-dla-anglistow-czesc-1-z-2/
END:VEVENT
END:VCALENDAR