BEGIN:VCALENDAR
VERSION:2.0
PRODID:-//PT TEPIS - ECPv6.15.20//NONSGML v1.0//EN
CALSCALE:GREGORIAN
METHOD:PUBLISH
X-ORIGINAL-URL:https://tepis.org.pl
X-WR-CALDESC:Wydarzenia dla PT TEPIS
REFRESH-INTERVAL;VALUE=DURATION:PT1H
X-Robots-Tag:noindex
X-PUBLISHED-TTL:PT1H
BEGIN:VTIMEZONE
TZID:Europe/Warsaw
BEGIN:DAYLIGHT
TZOFFSETFROM:+0100
TZOFFSETTO:+0200
TZNAME:CEST
DTSTART:20220327T010000
END:DAYLIGHT
BEGIN:STANDARD
TZOFFSETFROM:+0200
TZOFFSETTO:+0100
TZNAME:CET
DTSTART:20221030T010000
END:STANDARD
BEGIN:DAYLIGHT
TZOFFSETFROM:+0100
TZOFFSETTO:+0200
TZNAME:CEST
DTSTART:20230326T010000
END:DAYLIGHT
BEGIN:STANDARD
TZOFFSETFROM:+0200
TZOFFSETTO:+0100
TZNAME:CET
DTSTART:20231029T010000
END:STANDARD
BEGIN:DAYLIGHT
TZOFFSETFROM:+0100
TZOFFSETTO:+0200
TZNAME:CEST
DTSTART:20240331T010000
END:DAYLIGHT
BEGIN:STANDARD
TZOFFSETFROM:+0200
TZOFFSETTO:+0100
TZNAME:CET
DTSTART:20241027T010000
END:STANDARD
END:VTIMEZONE
BEGIN:VEVENT
DTSTART;TZID=Europe/Warsaw:20231129T170000
DTEND;TZID=Europe/Warsaw:20231129T183000
DTSTAMP:20260422T113442
CREATED:20230512T102019Z
LAST-MODIFIED:20231113T085420Z
UID:28143-1701277200-1701282600@tepis.org.pl
SUMMARY:Kurs z zakresu prawa\, moduł 8\, warsztaty- język hiszpański
DESCRIPTION:Webinarium „Kurs dla tłumaczy języków obcych z zakresu prawa 2022 -2023” \n8 moduł podstawowy: Warsztaty tematyczne w sekcjach językowych – sekcja hiszpańska \nTemat VIII. Prawo administracyjne i procedura administracyjna \nPROGRAM-SZKOLENIA-KURS-PRAWA
URL:https://tepis.org.pl/event/kurs-z-zakresu-prawa-modul-8-warsztaty-jezyk-hiszpanski/
END:VEVENT
BEGIN:VEVENT
DTSTART;TZID=Europe/Warsaw:20231129T184500
DTEND;TZID=Europe/Warsaw:20231129T201500
DTSTAMP:20260422T113442
CREATED:20230512T094954Z
LAST-MODIFIED:20231113T085321Z
UID:28131-1701283500-1701288900@tepis.org.pl
SUMMARY:Kurs z zakresu prawa\, moduł 8\, warsztaty- język niemiecki
DESCRIPTION:Webinarium „Kurs dla tłumaczy języków obcych z zakresu prawa 2022 -2023” \n8 moduł podstawowy: Warsztaty tematyczne w sekcjach językowych – sekcja niemiecka \nTemat VIII. Prawo administracyjne i procedura administracyjna \nPROGRAM-SZKOLENIA-KURS-PRAWA
URL:https://tepis.org.pl/event/kurs-z-zakresu-prawa-modul-8-warsztaty-jezyk-niemiecki/
END:VEVENT
END:VCALENDAR